{"text_format":"1","workbook":"xlsx","n_sheets":11,"sheets":["事務局用","はじめに","ﾃﾞｰﾀ入力","(参加)同意書","様式1","様式2","様式3","様式4","鉄剤注射同意書","鉄剤注射報告書","鉄剤注射実施報告書"],"not_rendered":{"charts":0,"images":15,"macros":1,"external_links":0,"defined_names":10,"comments":2,"pivot_tables":0},"unopened":[],"bounds":{"document_bytes":16777216,"sheet_cells":100000,"rows_first":2000,"rows_last":500,"rows_between":2000,"halvings":0,"cell_chars":16384,"cell_head_chars":4096},"cells_cut":0,"cells_raw":0,"read":"whole","date_system":"1900"}

{"sheet":"事務局用","index":0,"n_rows":85,"n_cols":101,"rows_kept":85,"cut":false,"hidden":true,"merged":[[7,33,9,33],[8,34,9,34],[8,35,9,35],[7,34,7,35],[8,36,9,36],[7,54,9,54],[8,38,9,38],[8,39,9,39],[8,40,9,40],[8,41,9,41],[7,36,7,41],[8,42,9,42],[8,37,9,37],[8,43,9,43],[7,44,7,53],[8,44,8,46],[8,47,8,49],[8,50,8,52],[7,42,7,43],[7,15,7,19],[8,15,9,15],[8,16,9,16],[8,17,9,17],[8,18,9,18],[8,19,9,19],[7,30,7,32],[8,31,9,31],[8,30,9,30],[8,32,9,32],[8,20,9,20],[8,21,9,21],[8,22,9,22],[8,24,9,24],[8,25,9,25],[8,26,9,26],[8,27,9,27],[8,28,9,28],[7,20,7,22],[7,29,9,29],[7,23,7,28],[8,23,9,23],[7,11,9,11],[7,12,9,12],[7,13,9,13],[7,14,9,14],[7,5,9,5],[7,6,9,6],[7,7,9,7],[7,8,9,8],[7,9,9,9],[7,10,9,10],[7,3,9,3],[7,4,9,4],[73,0,76,0],[11,2,11,3],[11,4,11,5],[77,0,80,0],[81,0,84,0],[76,1,79,1],[80,1,83,1],[7,2,9,2],[11,17,12,17],[11,18,11,20],[11,21,11,23],[11,24,11,25],[11,26,11,27],[11,6,12,6],[11,7,11,9],[11,10,11,12],[11,13,11,14],[11,15,11,16],[11,57,11,58],[11,59,11,60],[11,39,12,39],[11,40,11,42],[11,43,11,45],[11,46,11,47],[11,48,11,49],[11,28,12,28],[11,29,11,31],[11,32,11,34],[11,35,11,36],[11,37,11,38],[7,55,9,55],[11,94,12,94],[11,95,11,97],[11,98,11,100],[7,1,10,1],[11,1,13,1],[11,83,12,83],[11,84,11,86],[11,87,11,89],[11,90,11,91],[11,92,11,93],[11,72,12,72],[11,73,11,75],[11,76,11,78],[11,79,11,80],[11,81,11,82],[11,61,12,61],[11,62,11,64],[11,65,11,67],[11,68,11,69],[11,70,11,71],[11,50,12,50],[11,51,11,53],[11,54,11,56]]}
["このシートを削除しないでください",null,null,null,null,null,"このシートは各学校へ配布時だと「非表示」に、回収時は「表示」して事務局が作業します"]
[null,"作成年度","申込締切",null,null,null,null,"マクロ割り当てショートカットキー","表示…","「Ctrl」＋「d」",null,null,"非表示…","「Ctrl」＋「y」"]
[null,2021,"11月25日",{"$f":"VLOOKUP(A26,A28:B34,2)","v":"木"},null,null,"通常での「シートの表示・非表示」はマウスカーソルをシートタグへ移動させて右クリック→"]
[null,null,null,null,null,null,"表示…","「表示」→表示するシート「事務局用」を選択して「OK」",null,null,null,null,null,"非表示…","「事務局用」シートタグで右クリック→「非表示」"]
[]
[]
[]
[null,"チーム\n申込用\nデータ","部門","都道\n府県\n№","都道府県","学校名","フリガナ","略学校名","フリガナ","電話番号","FAX","郵便番号","住所","フリガナ","校長名","監督",null,null,null,null,"引率者名",null,null,"外部指導者名",null,null,null,null,null,"領収書用\n宛名","エントリー人数",null,null,"参加料計","プログラム",null,"大会オリジナル\nクリアファイル\n滋賀PR3種\n出場校一覧",null,null,null,null,null,"PCR検査",null,"テント類",null,null,null,null,null,null,null,null,null,"領収書\n金額","返金方法"]
[null,null,null,null,null,null,null,null,null,null,null,null,null,null,null,"氏名","フリガナ","年齢","職名","携帯電話","氏名","フリガナ","携帯電話","フリガナ","氏名","性別","年齢","職業","学校との\n関わり",null,"女子分","男子分","合計",null,"冊数","代金","A","B","C","個計","全","全計","組計","金額","女子",null,null,"男子",null,null,"応援",null,null,"合計"]
[null,null,null,null,null,null,null,null,null,null,null,null,null,null,null,null,null,null,null,null,null,null,null,null,null,null,null,null,null,null,null,null,null,null,null,null,null,null,null,null,null,null,null,null,"テント","机","イス","テント","机","イス","テント","机","イス","金額"]
[null,null,{"$f":"ﾃﾞｰﾀ入力!B2","v":"男子"},{"$f":"ﾃﾞｰﾀ入力!B3","v":48},{"$f":"ﾃﾞｰﾀ入力!B4","v":"開催地"},{"$f":"ﾃﾞｰﾀ入力!B6","v":"近江市立志賀中学校"},{"$f":"ﾃﾞｰﾀ入力!B5","v":"ｵｳﾐｼﾘﾂｼｶﾞﾁｭｳｶﾞｯｺｳ"},{"$f":"ﾃﾞｰﾀ入力!B8","v":"志賀"},{"$f":"ﾃﾞｰﾀ入力!B7","v":"ｼｶﾞ"},{"$f":"ﾃﾞｰﾀ入力!B9","v":"077-535-9080"},{"$f":"ﾃﾞｰﾀ入力!B10","v":"077-535-9081"},{"$f":"ﾃﾞｰﾀ入力!B13","v":"520-0807"},{"$f":"ﾃﾞｰﾀ入力!C12","v":"大津市松本一丁目２－１"},{"$f":"ﾃﾞｰﾀ入力!C11","v":"ｵｵﾂｼﾏﾂﾓｲｯﾁｮｳﾒ2-1"},{"$f":"ﾃﾞｰﾀ入力!B14","v":"鈴木　一郎"},{"$f":"ﾃﾞｰﾀ入力!B16","v":"山田　花子"},{"$f":"ﾃﾞｰﾀ入力!B15","v":"ﾔﾏﾀﾞ ﾊﾅｺ"},{"$f":"ﾃﾞｰﾀ入力!B17","v":30},{"$f":"ﾃﾞｰﾀ入力!B18","v":"教諭"},{"$f":"ﾃﾞｰﾀ入力!B19","v":"090-8448-7874"},{"$f":"ﾃﾞｰﾀ入力!B21","v":"福知　敬孝"},{"$f":"ﾃﾞｰﾀ入力!B20","v":"ﾌｸﾁ ﾉﾘﾀｶ"},{"$f":"ﾃﾞｰﾀ入力!B22","v":"080-8303-0607"},{"$f":"様式3!C19","v":0},{"$f":"様式3!C20","v":0},{"$f":"様式3!C21","v":0},{"$f":"様式3!G21","v":0},{"$f":"様式3!C22","v":0},{"$f":"様式3!C23","v":0},{"$f":"様式4!I4","v":"志賀"},{"$f":"IF(様式4!C7=\"女子\",様式4!D7,IF(様式4!D8=0,\"\",様式4!D8))","v":""},{"$f":"IF(様式4!C7=\"男子\",様式4!D7,IF(様式4!D8=0,\"\",様式4!D8))","v":8},{"$f":"SUM(AE11:AF11)","v":8},{"$f":"様式4!J8","v":32000},{"$f":"様式4!E9","v":0},{"$f":"様式4!J9","v":0},{"$f":"様式4!F10","v":0},{"$f":"様式4!I10","v":0},{"$f":"様式4!L10","v":0},{"$f":"様式4!I11","v":0},{"$f":"様式4!E12","v":0},{"$f":"様式4!I12","v":0},{"$f":"様式4!E13","v":0},{"$f":"様式4!I13","v":0},{"$f":"VLOOKUP(IF(様式4!C7=\"女子\",様式4!P15,様式4!P17),様式4!$O$38:$P$41,2,0)","v":"-"},{"$f":"IF(様式4!C7=\"女子\",様式4!I15,様式4!I17)","v":0},{"$f":"IF(様式4!C7=\"女子\",様式4!I16,様式4!I18)","v":0},{"$f":"VLOOKUP(IF(様式4!C7=\"男子\",様式4!P15,様式4!P17),様式4!$O$38:$P$41,2,0)","v":"-"},{"$f":"IF(様式4!C7=\"男子\",様式4!I15,様式4!I17)","v":0},{"$f":"IF(様式4!C7=\"男子\",様式4!I16,様式4!I18)","v":0},{"$f":"VLOOKUP(様式4!P19,様式4!$O$38:$P$41,2,0)","v":"-"},{"$f":"様式4!I19","v":0},{"$f":"様式4!I20","v":0},{"$f":"様式4!K20","v":0},{"$f":"様式4!H22","v":32000},{"$f":"様式4!P28","v":0}]
[null,"エントリー選手\nデータ","ﾌﾘｶﾞﾅ",null,"氏名",null,"学年",{"$f":"IF($C$11=\"男子\",\"1500m記録\",IF($C$11=\"女子\",\"800m記録\",\"\"))","v":"1500m記録"},null,null,{"$f":"IF($C$11=\"男子\",\"3000m記録\",IF($C$11=\"女子\",\"1500m記録\",\"\"))","v":"3000m記録"},null,null,"ﾌﾘｶﾞﾅ",null,"氏名",null,"学年",{"$f":"IF($C$11=\"男子\",\"1500m記録\",IF($C$11=\"女子\",\"800m記録\",\"\"))","v":"1500m記録"},null,null,{"$f":"IF($C$11=\"男子\",\"3000m記録\",IF($C$11=\"女子\",\"1500m記録\",\"\"))","v":"3000m記録"},null,null,"ﾌﾘｶﾞﾅ",null,"氏名",null,"学年",{"$f":"IF($C$11=\"男子\",\"1500m記録\",IF($C$11=\"女子\",\"800m記録\",\"\"))","v":"1500m記録"},null,null,{"$f":"IF($C$11=\"男子\",\"3000m記録\",IF($C$11=\"女子\",\"1500m記録\",\"\"))","v":"3000m記録"},null,null,"ﾌﾘｶﾞﾅ",null,"氏名",null,"学年",{"$f":"IF($C$11=\"男子\",\"1500m記録\",IF($C$11=\"女子\",\"800m記録\",\"\"))","v":"1500m記録"},null,null,{"$f":"IF($C$11=\"男子\",\"3000m記録\",IF($C$11=\"女子\",\"1500m記録\",\"\"))","v":"3000m記録"},null,null,"ﾌﾘｶﾞﾅ",null,"氏名",null,"学年",{"$f":"IF($C$11=\"男子\",\"1500m記録\",IF($C$11=\"女子\",\"800m記録\",\"\"))","v":"1500m記録"},null,null,{"$f":"IF($C$11=\"男子\",\"3000m記録\",IF($C$11=\"女子\",\"1500m記録\",\"\"))","v":"3000m記録"},null,null,"ﾌﾘｶﾞﾅ",null,"氏名",null,"学年",{"$f":"IF($C$11=\"男子\",\"1500m記録\",IF($C$11=\"女子\",\"800m記録\",\"\"))","v":"1500m記録"},null,null,{"$f":"IF($C$11=\"男子\",\"3000m記録\",IF($C$11=\"女子\",\"1500m記録\",\"\"))","v":"3000m記録"},null,null,"ﾌﾘｶﾞﾅ",null,"氏名",null,"学年",{"$f":"IF($C$11=\"男子\",\"1500m記録\",IF($C$11=\"女子\",\"800m記録\",\"\"))","v":"1500m記録"},null,null,{"$f":"IF($C$11=\"男子\",\"3000m記録\",IF($C$11=\"女子\",\"1500m記録\",\"\"))","v":"3000m記録"},null,null,"ﾌﾘｶﾞﾅ",null,"氏名",null,"学年",{"$f":"IF($C$11=\"男子\",\"1500m記録\",IF($C$11=\"女子\",\"800m記録\",\"\"))","v":"1500m記録"},null,null,{"$f":"IF($C$11=\"男子\",\"3000m記録\",IF($C$11=\"女子\",\"1500m記録\",\"\"))","v":"3000m記録"},null,null,"ﾌﾘｶﾞﾅ",null,"氏名",null,"学年",{"$f":"IF($C$11=\"男子\",\"1500m記録\",IF($C$11=\"女子\",\"800m記録\",\"\"))","v":"1500m記録"},null,null,{"$f":"IF($C$11=\"男子\",\"3000m記録\",IF($C$11=\"女子\",\"1500m記録\",\"\"))","v":"3000m記録"}]
[null,null,"姓","名","姓","名",null,"分","秒",null,"分","秒",null,"姓","名","姓","名",null,"分","秒",null,"分","秒",null,"姓","名","姓","名",null,"分","秒",null,"分","秒",null,"姓","名","姓","名",null,"分","秒",null,"分","秒",null,"姓","名","姓","名",null,"分","秒",null,"分","秒",null,"姓","名","姓","名",null,"分","秒",null,"分","秒",null,"姓","名","姓","名",null,"分","秒",null,"分","秒",null,"姓","名","姓","名",null,"分","秒",null,"分","秒",null,"姓","名","姓","名",null,"分","秒",null,"分","秒"]
[null,null,{"$f":"ﾃﾞｰﾀ入力!B27","v":"ﾄﾊﾞ"},{"$f":"ﾃﾞｰﾀ入力!C27","v":"ｲﾁﾛｳ"},{"$f":"ﾃﾞｰﾀ入力!D27","v":"鳥羽"},{"$f":"ﾃﾞｰﾀ入力!E27","v":"一郎"},{"$f":"ﾃﾞｰﾀ入力!F27","v":3},{"$f":"ﾃﾞｰﾀ入力!G27","v":"4"},{"$f":"ﾃﾞｰﾀ入力!H27","v":"15"},{"$f":"ﾃﾞｰﾀ入力!I27","v":"63"},{"$f":"ﾃﾞｰﾀ入力!J27","v":"10"},{"$f":"ﾃﾞｰﾀ入力!K27","v":"03"},{"$f":"ﾃﾞｰﾀ入力!L27","v":"58"},{"$f":"ﾃﾞｰﾀ入力!B28","v":"ｻｻｷ"},{"$f":"ﾃﾞｰﾀ入力!C28","v":"ｺｼﾞﾛｳ"},{"$f":"ﾃﾞｰﾀ入力!D28","v":"佐々木"},{"$f":"ﾃﾞｰﾀ入力!E28","v":"小次郎"},{"$f":"ﾃﾞｰﾀ入力!F28","v":2},{"$f":"ﾃﾞｰﾀ入力!G28","v":"4"},{"$f":"ﾃﾞｰﾀ入力!H28","v":"40"},{"$f":"ﾃﾞｰﾀ入力!I28","v":"25"},{"$f":"ﾃﾞｰﾀ入力!J28","v":"9"},{"$f":"ﾃﾞｰﾀ入力!K28","v":"16"},{"$f":"ﾃﾞｰﾀ入力!L28","v":"23"},{"$f":"ﾃﾞｰﾀ入力!B29","v":"ﾐﾔﾓﾄ"},{"$f":"ﾃﾞｰﾀ入力!C29","v":"ﾑｻｼ"},{"$f":"ﾃﾞｰﾀ入力!D29","v":"宮本"},{"$f":"ﾃﾞｰﾀ入力!E29","v":"武蔵"},{"$f":"ﾃﾞｰﾀ入力!F29","v":3},{"$f":"ﾃﾞｰﾀ入力!G29","v":"4"},{"$f":"ﾃﾞｰﾀ入力!H29","v":"25"},{"$f":"ﾃﾞｰﾀ入力!I29","v":"60"},{"$f":"ﾃﾞｰﾀ入力!J29","v":"9"},{"$f":"ﾃﾞｰﾀ入力!K29","v":"30"},{"$f":"ﾃﾞｰﾀ入力!L29","v":"15"},{"$f":"ﾃﾞｰﾀ入力!B30","v":"ﾀﾂﾐ"},{"$f":"ﾃﾞｰﾀ入力!C30","v":"ﾀｸﾛｳ"},{"$f":"ﾃﾞｰﾀ入力!D30","v":"辰巳"},{"$f":"ﾃﾞｰﾀ入力!E30","v":"拓朗"},{"$f":"ﾃﾞｰﾀ入力!F30","v":2},{"$f":"ﾃﾞｰﾀ入力!G30","v":"4"},{"$f":"ﾃﾞｰﾀ入力!H30","v":"35"},{"$f":"ﾃﾞｰﾀ入力!I30","v":"61"},{"$f":"ﾃﾞｰﾀ入力!J30","v":"9"},{"$f":"ﾃﾞｰﾀ入力!K30","v":"24"},{"$f":"ﾃﾞｰﾀ入力!L30","v":"31"},{"$f":"ﾃﾞｰﾀ入力!B31","v":"ﾔﾏﾓﾄ"},{"$f":"ﾃﾞｰﾀ入力!C31","v":"ﾊｼﾞﾒ"},{"$f":"ﾃﾞｰﾀ入力!D31","v":"山元"},{"$f":"ﾃﾞｰﾀ入力!E31","v":"一"},{"$f":"ﾃﾞｰﾀ入力!F31","v":3},{"$f":"ﾃﾞｰﾀ入力!G31","v":"4"},{"$f":"ﾃﾞｰﾀ入力!H31","v":"35"},{"$f":"ﾃﾞｰﾀ入力!I31","v":"15"},{"$f":"ﾃﾞｰﾀ入力!J31","v":"9"},{"$f":"ﾃﾞｰﾀ入力!K31","v":"45"},{"$f":"ﾃﾞｰﾀ入力!L31","v":"23"},{"$f":"ﾃﾞｰﾀ入力!B32","v":"ｱﾗｼ"},{"$f":"ﾃﾞｰﾀ入力!C32","v":"ｲｯｻ"},{"$f":"ﾃﾞｰﾀ入力!D32","v":"嵐"},{"$f":"ﾃﾞｰﾀ入力!E32","v":"一茶"},{"$f":"ﾃﾞｰﾀ入力!F32","v":1},{"$f":"ﾃﾞｰﾀ入力!G32","v":"4"},{"$f":"ﾃﾞｰﾀ入力!H32","v":"42"},{"$f":"ﾃﾞｰﾀ入力!I32","v":"24"},{"$f":"ﾃﾞｰﾀ入力!J32","v":"10"},{"$f":"ﾃﾞｰﾀ入力!K32","v":"01"},{"$f":"ﾃﾞｰﾀ入力!L32","v":"35"},{"$f":"ﾃﾞｰﾀ入力!B33","v":"ｵｵﾏｴ"},{"$f":"ﾃﾞｰﾀ入力!C33","v":"ﾖｼｵ"},{"$f":"ﾃﾞｰﾀ入力!D33","v":"大前"},{"$f":"ﾃﾞｰﾀ入力!E33","v":"義男"},{"$f":"ﾃﾞｰﾀ入力!F33","v":3},{"$f":"ﾃﾞｰﾀ入力!G33","v":"4"},{"$f":"ﾃﾞｰﾀ入力!H33","v":"12"},{"$f":"ﾃﾞｰﾀ入力!I33","v":"36"},{"$f":"ﾃﾞｰﾀ入力!J33","v":"9"},{"$f":"ﾃﾞｰﾀ入力!K33","v":"10"},{"$f":"ﾃﾞｰﾀ入力!L33","v":"11"},{"$f":"ﾃﾞｰﾀ入力!B34","v":"ｻﾄｳ"},{"$f":"ﾃﾞｰﾀ入力!C34","v":"ｺｳﾀﾞｲ"},{"$f":"ﾃﾞｰﾀ入力!D34","v":"佐藤"},{"$f":"ﾃﾞｰﾀ入力!E34","v":"滉大"},{"$f":"ﾃﾞｰﾀ入力!F34","v":1},{"$f":"ﾃﾞｰﾀ入力!G34","v":"4"},{"$f":"ﾃﾞｰﾀ入力!H34","v":"35"},{"$f":"ﾃﾞｰﾀ入力!I34","v":"15"},{"$f":"ﾃﾞｰﾀ入力!J34","v":"10"},{"$f":"ﾃﾞｰﾀ入力!K34","v":"06"},{"$f":"ﾃﾞｰﾀ入力!L34","v":"65"},{"$f":"ﾃﾞｰﾀ入力!B35","v":0},{"$f":"ﾃﾞｰﾀ入力!C35","v":0},{"$f":"ﾃﾞｰﾀ入力!D35","v":0},{"$f":"ﾃﾞｰﾀ入力!E35","v":0},{"$f":"ﾃﾞｰﾀ入力!F35","v":0},{"$f":"ﾃﾞｰﾀ入力!G35","v":0},{"$f":"ﾃﾞｰﾀ入力!H35","v":0},{"$f":"ﾃﾞｰﾀ入力!I35","v":0},{"$f":"ﾃﾞｰﾀ入力!J35","v":0},{"$f":"ﾃﾞｰﾀ入力!K35","v":0},{"$f":"ﾃﾞｰﾀ入力!L35","v":0}]
[]
[]
[]
[]
[]
[]
["参加資格",null,"県名","県No.",null,null,null,null,"職名",null,0,"(提出不可)"]
[{"$f":"B3-15","v":2006},"4月1日","北海道",1,"北海道","北海道","ﾎｯｶｲﾄﾞｳ",null,"校長",null,1,"(-様式2)"]
[{"$f":"A22&\"年\"&B22","v":"2006年4月1日"},{"$f":"DATE(A22,4,2)","v":"2006-04-02"},"青　森",2,"青　森","青森県","ｱｵﾓﾘｹﾝ",null,"教諭",null,2,"(-様式2P)"]
[{"$f":"B3&\"年\"&C3","v":"2021年11月25日"},null,"岩　手",3,"岩　手","岩手県","ｲﾜﾃｹﾝ",null,"部活指導員",null,10,"(提出不可)"]
[{"$f":"DATEVALUE(A24)","v":44525},{"$f":"A25","v":"2021-11-25"},"宮　城",4,"宮　城","宮城県","ﾐﾔｷﾞｹﾝ",null,null,null,11,"(P以外OK）"]
[{"$f":"MOD(A25,7)","v":5},null,"秋　田",5,"秋　田","秋田県","ｱｷﾀｹﾝ",null,null,null,12,"(必須全データ)"]
[null,null,"山　形",6,"山　形","山形県","ﾔﾏｶﾞﾀｹﾝ",null,null,null,100,"(提出不可)"]
[0,"土","福　島",7,"福　島","福島県","ﾌｸｼﾏｹﾝ",null,null,null,101,"(-様式2)3未"]
[1,"日","茨　城",8,"茨　城","茨城県","ｲﾊﾞﾗｷｹﾝ",null,null,null,102,"(-様式2P)3未"]
[2,"月","栃　木",9,"栃　木","栃木県","ﾄﾁｷﾞｹﾝ",null,null,null,111,"(‐様式2&4)3未"]
[3,"火","群　馬",10,"群　馬","群馬県","ｸﾞﾝﾏｹﾝ",null,null,null,112,"(-様式2P&4)3未"]
[4,"水","埼　玉",11,"埼　玉","埼玉県","ｻｲﾀﾏｹﾝ",null,null,null,201,"(-様式2)＋3"]
[5,"木","千　葉",12,"千　葉","千葉県","ﾁﾊﾞｹﾝ",null,null,null,202,"(-様式2P)＋3"]
[6,"金","東　京",13,"東　京","東京都","ﾄｳｷｮｳﾄ",null,null,null,211,"(P以外OK）＋3"]
[null,null,"神奈川",14,"神奈川","神奈川県","ｶﾅｶﾞﾜｹﾝ",null,null,null,212,"(必須全データ)＋3"]
[null,null,"山　梨",15,"山　梨","山梨県","ﾔﾏﾅｼｹﾝ",null,null,null,301,"(-様式2)＋3P"]
[null,null,"新　潟",16,"新　潟","新潟県","ﾆｲｶﾞﾀｹﾝ",null,null,null,302,"(-様式2P)＋3P"]
[null,null,"長　野",17,"長　野","長野県","ﾅｶﾞﾉｹﾝ",null,null,null,311,"(-様式2&4)＋3P"]
[null,null,"富　山",18,"富　山","富山県","ﾄﾔﾏｹﾝ",null,null,null,312,"(必須全データ)＋3P"]
[null,null,"石　川",19,"石　川","石川県","ｲｼｶﾜｹﾝ"]
[null,null,"福　井",20,"福　井","福井県","ﾌｸｲｹﾝ"]
[{"$f":"A22&\"年\"&C3","v":"2006年11月25日"},{"$f":"C3","v":"11月25日"},"静　岡",21,"静　岡","静岡県","ｼｽﾞｵｶｹﾝ"]
[{"$f":"A22+1&\"年\"&C3","v":"2007年11月25日"},{"$f":"C3","v":"11月25日"},"愛　知",22,"愛　知","愛知県","ｱｲﾁｹﾝ"]
[{"$f":"A22+2&\"年\"&C3","v":"2008年11月25日"},{"$f":"C3","v":"11月25日"},"三　重",23,"三　重","三重県","ﾐｴｹﾝ"]
[{"$f":"A22+3&\"年\"&B22","v":"2009年4月1日"},null,"岐　阜",24,"岐　阜","岐阜県","ｷﾞﾌｹﾝ"]
[null,{"$f":"B23","v":"2006-04-02"},"滋　賀",25,"滋　賀","滋賀県","ｼｶﾞｹﾝ"]
[null,{"$f":"A53","v":"2006-11-25"},"京　都",26,"京　都","京都府","ｷｮｳﾄﾌ"]
[null,{"$f":"A54","v":"2007-11-25"},"大　阪",27,"大　阪","大阪府","ｵｵｻｶﾌ"]
[null,{"$f":"A55","v":"2008-11-25"},"兵　庫",28,"兵　庫","兵庫県","ﾋｮｳｺﾞｹﾝ"]
[null,{"$f":"A56","v":"2009-04-02"},"奈　良",29,"奈　良","奈良県","ﾅﾗｹﾝ"]
[null,null,"和歌山",30,"和歌山","和歌山県","ﾜｶﾔﾏｹﾝ"]
[{"$f":"DATEVALUE(A23)","v":38808},15,"鳥　取",31,"鳥　取","鳥取県","ﾄｯﾄﾘｹﾝ"]
[{"$f":"DATEVALUE(A42)","v":39046},14,"島　根",32,"島　根","島根県","ｼﾏﾈｹﾝ"]
[{"$f":"DATEVALUE(A43)","v":39411},13,"岡　山",33,"岡　山","岡山県","ｵｶﾔﾏｹﾝ"]
[{"$f":"DATEVALUE(A44)","v":39777},12,"広　島",34,"広　島","広島県","ﾋﾛｼﾏｹﾝ"]
[{"$f":"DATEVALUE(A45)+1","v":39905},"?","山　口",35,"山　口","山口県","ﾔﾏｸﾞﾁｹﾝ"]
[null,null,"香　川",36,"香　川","香川県","ｶｶﾞﾜｹﾝ"]
[null,null,"徳　島",37,"徳　島","徳島県","ﾄｸｼﾏｹﾝ"]
[null,null,"愛　媛",38,"愛　媛","愛媛県","ｴﾋﾒｹﾝ"]
[null,null,"高　知",39,"高　知","高知県","ｺｳﾁｹﾝ"]
[null,null,"福　岡",40,"福　岡","福岡県","ﾌｸｵｶｹﾝ"]
[null,null,"佐　賀",41,"佐　賀","佐賀県","ｻｶﾞｹﾝ"]
[null,null,"長　崎",42,"長　崎","長崎県","ﾅｶﾞｻｷｹﾝ"]
[null,null,"熊　本",43,"熊　本","熊本県","ｸﾏﾓﾄｹﾝ"]
[null,null,"大　分",44,"大　分","大分県","ｵｵｲﾀｹﾝ"]
[null,null,"宮　崎",45,"宮　崎","宮崎県","ﾐﾔｻﾞｷｹﾝ"]
[null,null,"鹿児島",46,"鹿児島","鹿児島県","ｶｺﾞｼﾏｹﾝ"]
[null,null,"沖　縄",47,"沖　縄","沖縄県","ｵｷﾅﾜｹﾝ"]
[null,null,"開催地",48,"開催地","滋賀県","ｼｶﾞｹﾝ"]
[null,{"$f":"COUNTA(ﾃﾞｰﾀ入力!F27:F35)","v":8},5,6,7,8,9]
[null,{"$f":"HLOOKUP(B70,$C$70:$G$71,2)","v":"　⑤ ⑥ ⑦ ⑧ \n監 ① ② ③ ④"},"　 ③ ④ ⑤ \n監 ① ② ","　④ ⑤ ⑥ \n監 ① ② ③ ","　④ ⑤ ⑥ ⑦ \n監 ① ② ③","　⑤ ⑥ ⑦ ⑧ \n監 ① ② ③ ④","　⑤ ⑥ ⑦ ⑧ ⑨\n監 ① ② ③ ④"]
["参考"]
["学年","生年(月日)"]
[3,{"$f":"B3-15&\".4.2\"&\"～\"","v":"2006.4.2～"}]
[]
[]
[null,{"$f":"B3-14","v":2007}]
[2]
[]
[]
[null,{"$f":"B3-13","v":2008}]
[1]
[]
[]
[null,{"$f":"\"～\"&B3-12&\".4.1\"","v":"～2009.4.1"}]

{"sheet":"はじめに","index":1,"n_rows":33,"n_cols":4,"rows_kept":33,"cut":false,"hidden":false,"merged":[]}
[]
[null,"この度は全国中学校駅伝大会へのご出場決定おめでとうございます。"]
[null,"これから、選手の体調管理も含めて準備に大変なことと思います。"]
[null,"当実行委員会もお迎えするにあたり、万全の態勢で臨めるよう準備を進めてまいりましたが"]
[null,"これまでの反省点も踏まえ、申し込み手続きを円滑に正確に進められるように"]
[null,"申し込みに関する必要な書類データをこのファイルに一括し、一度入力した内容は他の様式にも反映させるようにしました。"]
[null,"　そこで皆様にお願いします。"]
[null,null,"①このエクセルファイルをまず一刻も早く提出して、不備等のチェックをさせてください。"]
[null,null,"②実行委員会事務局でのチェックがOKとなったら、紙媒体の提出準備をお願いします。"]
[null,"例年、データを紙媒体と合わせて締め切り直前になって届けられる学校があり、大会プログラム編集作業にも支障をきたしています。"]
[null,"電子データは申込締切から大会当日まで時間が少ない中、関係者や業者とまとめたデータを速やかに準備・やりとりするために必要です"]
[null,"メールで送付いただいたら必ず「受け取りました」「紙媒体お願いします」メール（合わせて1通の場合もあり）を実行委員会事務局より返信します。",null,"（可能な限り提出した日のうちに）"]
[null,"返信がない場合、送信先アドレスが間違っているか、データ量が大きすぎて送信できないかのどちらかと思われますので、ご確認ください。"]
[null,"ただし、これを正式に申し込んだものとせず、紙媒体で提出したものを正式なものとします。"]
[null,"データ提出から紙媒体提出までに間違いが判明し修正したり、相違があったりした場合は、紙媒体データを信用します。"]
[null,"間違いが判明し修正された場合は、付箋等にその旨を記入し提出いただけると大変ありがたいです。"]
[null,"大会プログラム冊子の最終校正では紙媒体の書類、写真と照合して、他の学校との差し替え等のミスもないかチェックします。"]
[null,"以上のことから、できるだけ早くデータを正確にご提出いただけるよう、関数やマクロなどを使っております。"]
[null,"その関数やマクロに不具合が生じないように"]
[null,null,"①マクロが無効になっている旨の表示がされていたら「コンテンツの有効化」をしてください"]
[null,null,"②保護されたセルに入力・選択等の操作をしないでください。"]
[null,null,"③セル・行・列の挿入・削除をしないでください。"]
[null,"あとは少しでも作業・操作が楽になるようにショートカットキーの説明を印刷枠外でしております。どのエクセルでも使える機能なので便利だと思われたらご活用ください。"]
[null,null,"①説明の中での「＋」はその前の『キーを押しながら』という意味です　　　例）　「Ctrl」＋「Alt」＋「Delete」　…　「Ctrl」キー押しながら「Alt」キーも押しながら「Delete」キー押す"]
[null,null,"②説明の中での「→」はその前の『キーを押した後に』という意味です　　　例）　「Alt」→「N」　…　「Alt」キー押した後に「N」キー押す"]
[null,"入力作業で不安に思われたり、不明な点がありましたら、まずは学校内の同僚先生にお尋ねいただき、"]
[null,"それでも解決に至らないときは実行委員会事務局（077-535-9080）までお尋ねください。"]
[null,"なお大変だと思いますが、申込締切は紙媒体提出が原則できているものとします。"]
[]
[null,null,false]
[]
[null,"補足"]
[null,null,"「データ入力」シートにある➡マークの多くは　マーク近くでマウスカーソルが指差し表示に変わりクリックすると　該当シートへジャンプします"]

{"sheet":"ﾃﾞｰﾀ入力","index":2,"n_rows":153,"n_cols":19,"rows_kept":153,"cut":false,"hidden":true,"merged":[[80,10,80,17],[81,10,81,17],[82,10,82,17],[83,10,83,17],[66,10,66,17],[73,10,73,17],[67,10,67,17],[68,10,68,17],[74,10,74,17],[75,10,75,17],[15,1,15,2],[77,3,77,5],[78,3,78,5],[79,3,79,5],[65,6,65,9],[66,6,66,9],[67,6,67,9],[68,6,68,9],[69,6,69,9],[67,3,67,5],[24,3,24,4],[24,5,25,5],[24,6,24,8],[20,1,20,2],[21,1,21,2],[70,6,70,9],[71,6,71,9],[72,6,72,9],[73,6,73,9],[74,6,74,9],[24,0,25,0],[24,1,24,2],[75,6,75,9],[76,6,76,9],[77,6,77,9],[78,6,78,9],[79,6,79,9],[60,1,60,2],[63,1,63,2],[62,3,62,5],[12,12,12,13],[14,1,14,2],[0,0,0,12],[4,1,4,4],[5,1,5,4],[6,1,6,2],[7,1,7,2],[8,1,8,2],[2,5,2,14],[10,2,10,11],[11,2,11,11],[9,1,9,2],[13,1,13,2],[24,12,24,14],[36,1,36,14],[35,1,35,14],[24,9,24,11],[17,1,17,2],[19,1,19,2],[78,10,78,17],[79,10,79,17],[70,1,70,2],[76,10,76,17],[77,10,77,17],[76,3,76,5],[17,11,17,14],[18,1,18,2],[37,1,37,14],[72,10,72,16],[82,6,82,9],[83,6,83,9],[65,10,65,16],[69,10,69,16],[70,10,70,16],[71,10,71,16],[63,3,63,5],[64,3,64,5],[65,3,65,5],[66,3,66,5],[68,3,68,5],[69,3,69,5],[70,3,70,5],[71,3,71,5],[72,3,72,5],[73,3,73,5],[74,3,74,5],[75,3,75,5],[80,3,80,5],[81,3,81,5],[82,3,82,5],[83,3,83,5],[80,6,80,9],[81,6,81,9],[116,4,152,4],[105,1,113,4],[117,5,117,7],[118,5,118,7],[119,5,119,7],[120,5,120,7],[121,5,121,7],[122,5,122,7],[123,5,123,7],[124,5,124,7],[125,5,125,7]]}
["全国駅伝入力シート",null,null,null,null,null,null,null,null,null,null,null,null,null,null,null,"11月25日"]
["部門","男子"]
["県No.",{"$f":"IF(B4=0,0,VLOOKUP(B4,KenNo,2,FALSE))","v":48},null,null,null,"この色のセルに入力・選択してください。(他は入力不要）",null,null,null,null,null,null,null,null,null,null,null,"入力チェック"]
["都道府県名","開催地","←都道府県を選んでください。",null,null,null,null,null,null,null,null,null,null,null,null,null,null,{"$f":"IF(B4=\"\",\"未選択\",\"ＯＫ\")","v":"ＯＫ"}]
["学校名ﾌﾘｶﾞﾅ","ｵｳﾐｼﾘﾂｼｶﾞﾁｭｳｶﾞｯｺｳ",null,null,null,"←学校名をﾌﾘｶﾞﾅで入力してください。　例ｵｳﾐｼﾘﾂｼｶﾞﾁｭｳｶﾞｯｺｳ",null,null,null,null,null,null,null,null,null,null,null,{"$f":"IF(B5=\"\",\"未入力\",\"ＯＫ\")","v":"ＯＫ"}]
["学校名漢字","近江市立志賀中学校",null,null,null,"←学校名を漢字で入力してください。　例近江市立滋賀中学校",null,null,null,null,null,null,null,null,null,null,null,{"$f":"IF(B6=\"\",\"未入力\",IF(RIGHT(B6,3)=\"中学校\",\"ＯＫ\",\"「中学校」まで入力してください\"))","v":"ＯＫ"}]
["略学校名ﾌﾘｶﾞﾅ","ｼｶﾞ",null,"←学校名をﾌﾘｶﾞﾅで入力してください。　例ｼｶﾞ　",null,null,null,null,null,null,null,null,null,null,null,null,null,{"$f":"IF(B7=\"\",\"未入力\",\"ＯＫ\")","v":"ＯＫ"}]
["略学校名","志賀",null,"←学校名を入力してください。　例滋賀",null,null,null,null,null,null,null,null,null,null,null,null,null,"ＯＫ"]
["学校TEL","077-535-9080",null,"←数字と　-　で入力してください。　例077-123-4567",null,null,null,null,null,null,null,null,null,null,null,null,null,"ＯＫ"]
["学校FAX","077-535-9081",null,"←数字と　-　で入力してください。　例077-123-4568",null,null,null,null,null,null,null,null,null,null,null,null,null,"ＯＫ"]
["学校所在地ﾌﾘｶﾞﾅ",{"$f":"IF(B4=0,0,VLOOKUP(B4,KenNo,5,FALSE))","v":"ｼｶﾞｹﾝ"},"ｵｵﾂｼﾏﾂﾓｲｯﾁｮｳﾒ2-1",null,null,null,null,null,null,null,null,null,"←例　ｼｶﾞｹﾝｵｵﾂｼﾏﾂﾓﾄｲｯﾁｮｳﾒ2-1",null,null,null,null,{"$f":"IF(C11=\"\",\"未入力\",\"ＯＫ\")","v":"ＯＫ"}]
["学校所在地漢字",{"$f":"IF(B4=0,0,VLOOKUP(B4,KenNo,4,FALSE))","v":"滋賀県"},"大津市松本一丁目２－１",null,null,null,null,null,null,null,null,null,"←例　滋賀県大津市松本一丁目２－１",null,null,null,null,{"$f":"IF(C12=\"\",\"未入力\",\"ＯＫ\")","v":"ＯＫ"}]
["郵便番号","520-0807","←123-4567",null,null,null,null,null,null,null,null,null,null,null,null,null,null,"ＯＫ"]
["校長名","鈴木　一郎",null,"←名字と名前の間に全角スペースを入れてください。例近江　太郎",null,null,null,null,null,null,null,null,null,null,null,null,null,"ＯＫ"]
["監督名ﾌﾘｶﾞﾅ","ﾔﾏﾀﾞ ﾊﾅｺ",null,"←名字と名前の間に半角スペースを入れてください。例ｵｳﾐ ﾀﾛｳ",null,null,null,null,null,null,null,null,null,null,null,null,null,"ＯＫ"]
["監督名漢字","山田　花子",null,"←名字と名前の間に全角スペースを入れてください。例近江　太郎",null,null,null,null,null,null,null,null,null,null,null,null,null,"ＯＫ"]
["監督者年齢",30,"部活指導員",null,null,null,null,null,null,null,null,null,null,null,null,null,null,{"$f":"IF(B17=\"\",\"未入力\",\"ＯＫ\")","v":"ＯＫ"}]
["職名","教諭",null,null,null,null,null,null,null,null,"部活指導員の場合は任命権者を明記してください→","任命権者",null,null,null,null,null,{"$f":"IF(B18=\"\",\"未選択\",IF(AND(B18=\"部活指導員\",P18=\"\"),\"任命権者も\",IF(B18<>\"\",\"ＯＫ\",\"\")))","v":"ＯＫ"}]
["監督者携帯番号","090-8448-7874",null,"←数字と　-　で入力してください。　例090-1234-5678",null,null,null,null,null,null,null,null,null,null,null,null,null,{"$f":"IF(B19=\"\",\"未入力\",\"ＯＫ\")","v":"ＯＫ"}]
["引率責任者名ﾌﾘｶﾞﾅ","ﾌｸﾁ ﾉﾘﾀｶ",null,"←名字と名前の間に半角スペースを入れてください。例ｵｳﾐ ﾀﾛｳ",null,null,null,null,null,null,null,null,null,null,null,null,null,{"$f":"IF(B20=\"\",\"未入力\",\"ＯＫ\")","v":"ＯＫ"}]
["引率責任者名漢字","福知　敬孝",null,"←名字と名前の間に全角スペースを入れてください。例近江　太郎",null,null,null,null,null,null,null,null,null,null,null,null,null,{"$f":"IF(B21=\"\",\"未入力\",\"ＯＫ\")","v":"ＯＫ"}]
["引率携帯番号","080-8303-0607",null,"←数字と　-　で入力してください。　例090-1234-5678",null,null,null,null,null,null,null,null,null,null,null,null,null,{"$f":"IF(B22=\"\",\"未入力\",\"ＯＫ\")","v":"ＯＫ"}]
[]
[]
["番号","ﾌﾘｶﾞﾅ",null,"氏名",null,"学年",{"$f":"IF(B2=\"男子\",\"1500m記録\",IF(B2=\"女子\",\"800m記録\",\"\"))","v":"1500m記録"},null,null,{"$f":"IF(B2=\"男子\",\"3000m記録\",IF(B2=\"女子\",\"1500m記録\",\"\"))","v":"3000m記録"},null,null,"生年月日"]
[null,"姓","名","姓","名",null,"分","秒",null,"分","秒",null,"年","月","日"]
[1,"ﾄﾊﾞ","ｲﾁﾛｳ","鳥羽","一郎",3,"4","15","63","10","03","58","06",7,6,{"$f":"IF(M27=\"\",\"\",IF(事務局用!$B$23<=Q27,\"\",\"年齢による参加資格外です\"))","v":""},{"$f":"DATE(\"20\"&M27,N27,O27)","v":"2006-07-06"},{"$f":"IF(AND(B27<>\"\",C27<>\"\",D27<>\"\",E27<>\"\",F27<>\"\",M27<>\"\",N27<>\"\",O27<>\"\"),\"ＯＫ\",\"未完了\")","v":"ＯＫ"}]
[2,"ｻｻｷ","ｺｼﾞﾛｳ","佐々木","小次郎",2,"4","40","25","9","16","23","07",5,30,{"$f":"IF(M28=\"\",\"\",IF(事務局用!$B$23<=Q28,\"\",\"年齢による参加資格外です\"))","v":""},{"$f":"DATE(\"20\"&M28,N28,O28)","v":"2007-05-30"},"ＯＫ"]
[3,"ﾐﾔﾓﾄ","ﾑｻｼ","宮本","武蔵",3,"4","25","60","9","30","15","07",3,12,{"$f":"IF(M29=\"\",\"\",IF(事務局用!$B$23<=Q29,\"\",\"年齢による参加資格外です\"))","v":""},"2007-03-12","ＯＫ"]
[4,"ﾀﾂﾐ","ﾀｸﾛｳ","辰巳","拓朗",2,"4","35","61","9","24","31","08",1,6,{"$f":"IF(M30=\"\",\"\",IF(事務局用!$B$23<=Q30,\"\",\"年齢による参加資格外です\"))","v":""},"2008-01-06","ＯＫ"]
[5,"ﾔﾏﾓﾄ","ﾊｼﾞﾒ","山元","一",3,"4","35","15","9","45","23","06",9,12,{"$f":"IF(M31=\"\",\"\",IF(事務局用!$B$23<=Q31,\"\",\"年齢による参加資格外です\"))","v":""},"2006-09-12","ＯＫ"]
[6,"ｱﾗｼ","ｲｯｻ","嵐","一茶",1,"4","42","24","10","01","35","08",10,10,{"$f":"IF(M32=\"\",\"\",IF(事務局用!$B$23<=Q32,\"\",\"年齢による参加資格外です\"))","v":""},"2008-10-10",{"$f":"IF(AND(B2=\"女子\",S32=\"完了です\"),\"ＯＫ\",IF(AND(O31<>\"\",B32=\"\"),\"ｴﾝﾄﾘｰ完了？→\",IF(AND(B32<>\"\",C32<>\"\",D32<>\"\",E32<>\"\",F32<>\"\",M32<>\"\",N32<>\"\",O32<>\"\"),\"ＯＫ\",\"未完了\")))","v":"ＯＫ"}]
[7,"ｵｵﾏｴ","ﾖｼｵ","大前","義男",3,"4","12","36","9","10","11","06",9,19,{"$f":"IF(M33=\"\",\"\",IF(事務局用!$B$23<=Q33,\"\",\"年齢による参加資格外です\"))","v":""},"2006-09-19",{"$f":"IF(S33=\"完了です\",\"ＯＫ\",IF(AND(O32<>\"\",B33=\"\"),\"ｴﾝﾄﾘｰ完了？→\",IF(AND(B33<>\"\",C33<>\"\",D33<>\"\",E33<>\"\",F33<>\"\",M33<>\"\",N33<>\"\",O33<>\"\"),\"ＯＫ\",\"未完了\")))","v":"ＯＫ"}]
[8,"ｻﾄｳ","ｺｳﾀﾞｲ","佐藤","滉大",1,"4","35","15","10","06","65","09",2,4,{"$f":"IF(M34=\"\",\"\",IF(事務局用!$B$23<=Q34,\"\",\"年齢による参加資格外です\"))","v":""},"2009-02-04",{"$f":"IF(OR(S33=\"完了です\",S34=\"完了です\"),\"ＯＫ\",IF(AND(O33<>\"\",B34=\"\"),\"ｴﾝﾄﾘｰ完了？→\",IF(AND(B34<>\"\",C34<>\"\",D34<>\"\",E34<>\"\",F34<>\"\",M34<>\"\",N34<>\"\",O34<>\"\"),\"ＯＫ\",\"未完了\")))","v":"ＯＫ"}]
[9,null,null,null,null,null,null,null,null,null,null,null,null,null,null,{"$f":"IF(M35=\"\",\"\",IF(事務局用!$B$23<=Q35,\"\",\"年齢による参加資格外です\"))","v":""},"1919-11-30",{"$f":"IF(OR(B2=\"女子\",S33=\"完了です\",S34=\"完了です\",S35=\"完了です\"),\"ＯＫ\",IF(AND(O34<>\"\",B35=\"\"),\"ｴﾝﾄﾘｰ完了？→\",IF(AND(B35<>\"\",C35<>\"\",D35<>\"\",E35<>\"\",F35<>\"\",M35<>\"\",N35<>\"\",O35<>\"\"),\"ＯＫ\",\"未完了\")))","v":"ｴﾝﾄﾘｰ完了？→"}]
["学校紹介","琵琶湖の西岸にある学校です。いつでも湖岸で走ることができます。",null,null,null,null,null,null,null,null,null,null,null,null,null,"←５０字以内で学校紹介を記入して下さい。",null,{"$f":"IF(B36=\"\",\"未入力\",IF(OR(S36>50,S36<25),\"OK？→\",\"ＯＫ\"))","v":"ＯＫ"},{"$f":"LEN(B36)","v":31}]
["チーム紹介","エースを中心にまとまりのあるチームです。誰が出ても遜色ないくらいに力も拮抗しており、その中で切磋琢磨して勝ち上がってきました。粘り強く最後まで頑張ります。",null,null,null,null,null,null,null,null,null,null,null,null,null,"←１２０字以内でチーム紹介を記入してください。",null,{"$f":"IF(B37=\"\",\"未入力\",IF(OR(S37>120,S37<60),\"OK？→\",\"ＯＫ\"))","v":"ＯＫ"},{"$f":"LEN(B37)","v":77}]
["抱負","前半では全国で勝負できる選手はいませんが、後半同じレベルの選手ばかりで粘り強く追いかけ勝負を挑み、８位入賞を目指します。",null,null,null,null,null,null,null,null,null,null,null,null,null,"←１２０字以内で抱負を記入してください。",{"$f":"COUNTIF(R4:R38,\"ＯＫ\")","v":30},{"$f":"IF(B38=\"\",\"未入力\",IF(OR(S38>120,S38<60),\"OK？→\",\"ＯＫ\"))","v":"ＯＫ"},{"$f":"LEN(B38)","v":60}]
[false,null,null,null,null,null,null,null,null,null,null,null,null,null,null,"データ入力＋写真データ",{"$f":"IF(AND(Q38=31,様式1!L41=TRUE,様式2!Q29=TRUE),2,IF(Q38=31,1,0))","v":0},{"$f":"IF(Q38=31,\"全OK\",IF(Q39=1,\"写真貼付なし\",\"未完成\"))","v":"未完成"}]
[false,null,null,null,null,null,null,null,null,null,null,null,null,null,null,"様式４",{"$f":"IF(AND(様式4!I4<>\"\",OR(様式4!P8=2,様式4!P21=TRUE),OR(様式4!P14=TRUE,様式4!K20>0)),10,0)","v":0}]
[false,null,null,null,null,null,null,null,null,null,null,null,null,null,null,"様式３",{"$f":"IF(AND(Q39>0,A42=TRUE,様式3!L14=TRUE,様式3!J23=6),300,IF(AND(Q39>0,A42=TRUE,様式3!J23=6),200,IF(A42=TRUE,100,0)))","v":0}]
[false]
[]
[false]
[]
[]
[]
[]
[]
[]
[]
[]
[]
[]
[]
["現在のファイル状況"]
[{"$f":"VLOOKUP(Q57,事務局用!$K$21:$L$39,2,0)","v":"(提出不可)"},null,null,null,null,null,null,null,null,null,null,null,null,null,null,null,{"$f":"SUM(Q39:Q41)","v":0}]
[null,"この表示は、ファイルの状況（完成具合）を事務局が一目で理解できるよう表しています（数字あり…完成した様式、数字無し…未完成、Pあり…写真挿入あり）"]
[null,"下方のマクロボタン「提出用保存」をクリックしたとき、保存されるファイル名の末尾が自動的にこの表示になります。"]
[]
[null,"(-様式2P&4)3未",null,"…様式１，２は完成し写真も挿入されている。様式４も完成。様式３は(申込完了までに提出必要だが)未完成"]
[]
[null,null,null,"望ましいファイル末尾名"]
[null,"様式3提出不要校",null,"(必須全データ)"]
[]
[null,null,null,"表示されたファイル末尾名と対処",null,null,"今後必要な様式",null,null,null,"現ファイルの他に必要なデータ"]
[null,null,null,"(-様式2)",null,null,"様式4",null,null,null,"ユニフォーム写真データ、集合写真データ"]
[null,null,null,"(-様式2P)",null,null,"様式4"]
[null,null,null,"(P以外OK）",null,null,null,null,null,null,"ユニフォーム写真データ、集合写真データ"]
[]
[null,"様式3提出校",null,"(必須全データ)＋3P"]
[]
[null,null,null,"表示されたファイル末尾名と対処",null,null,"今後必要な様式",null,null,null,"現ファイルの他に必要なデータ"]
[null,null,null,"(-様式2)3未",null,null,"様式4、様式3",null,null,null,"ユニフォーム写真データ、集合写真データ"]
[null,null,null,"(-様式2P)3未",null,null,"様式4、様式3",null,null,null,"外部指導者の写真データ"]
[null,null,null,"(‐様式2&4)3未",null,null,"様式3",null,null,null,"ユニフォーム写真データ、集合写真データ、外部指導者の写真データ"]
[null,null,null,"(-様式2P&4)3未",null,null,"様式3",null,null,null,"外部指導者の写真データ"]
[null,null,null,"(-様式2)＋3",null,null,"様式4",null,null,null,"ユニフォーム写真データ、集合写真データ、外部指導者の写真データ"]
[null,null,null,"(-様式2P)＋3",null,null,"様式4",null,null,null,"外部指導者の写真データ"]
[null,null,null,"(P以外OK）＋3",null,null,null,null,null,null,"ユニフォーム写真データ、集合写真データ、外部指導者の写真データ"]
[null,null,null,"(必須全データ)＋3",null,null,null,null,null,null,"外部指導者の写真データ"]
[null,null,null,"(-様式2)＋3P",null,null,"様式4",null,null,null,"ユニフォーム写真データ、集合写真データ"]
[null,null,null,"(-様式2P)＋3P",null,null,"様式4"]
[null,null,null,"(-様式2&4)＋3P",null,null,null,null,null,null,"ユニフォーム写真データ、集合写真データ"]
[]
[]
[null,null,false]
[]
[null,null,"左のボタンクリック後も保存する元のファイル名ではクリック直前の状態で残ります"]
[]
[null,null,null,"男女同一校が出場の場合…",null,"にチェックを入れず「提出用保存」ボタンをクリック→元のファイル名を開いて改めて異性分の作業"]
[]
[]
[null,null,"データ送付先メールアドレス：","ekiden-shiga@office.eonet.ne.jp"]
[]
[]
[]
[]
[]
[null,null,"紙媒体（本提出）用にクリックしてください"]
[]
[]
[]
["宿泊・弁当・輸送申込ファイル転用データ"]
[]
[{"$f":"B2","v":"男子"}]
[{"$f":"B3","v":48}]
[{"$f":"B4","v":"開催地"}]
[{"$f":"DBCS(B5)","v":"オウミシリツシガチュウガッコウ"}]
[{"$f":"B6","v":"近江市立志賀中学校"}]
[{"$f":"B9","v":"077-535-9080"}]
[{"$f":"B10","v":"077-535-9081"}]
[{"$f":"B12&C12","v":"滋賀県大津市松本一丁目２－１"}]
[{"$f":"B13","v":"520-0807"}]
[{"$f":"DBCS(B15)","v":"ヤマダ　ハナコ"},{"$f":"B16","v":"山田　花子"},null,{"$f":"B17","v":30},{"$f":"B19","v":"090-8448-7874"}]
[{"$f":"DBCS(B20)","v":"フクチ　ノリタカ"},{"$f":"B21","v":"福知　敬孝"},null,null,{"$f":"B22","v":"080-8303-0607"}]
[{"$f":"様式3!C19","v":0},{"$f":"様式3!C20","v":0},{"$f":"様式3!C21","v":0},{"$f":"様式3!G21","v":0}]
[{"$f":"DBCS(B27&\" \"&C27)","v":"トバ　イチロウ"},{"$f":"D27&\"　\"&E27","v":"鳥羽　一郎"},{"$f":"IF($A$106=\"女子\",\"女\",IF($A$106=\"男子\",\"男\",\"\"))","v":"男"},{"$f":"VLOOKUP(F118,事務局用!$A$52:$B$56,2)","v":15},null,{"$f":"Q27","v":"2006-07-06"}]
["ササキ　コジロウ",{"$f":"D28&\"　\"&E28","v":"佐々木　小次郎"},{"$f":"IF($A$106=\"女子\",\"女\",IF($A$106=\"男子\",\"男\",\"\"))","v":"男"},{"$f":"VLOOKUP(F119,事務局用!$A$52:$B$56,2)","v":14},null,"2007-05-30"]
["ミヤモト　ムサシ","宮本　武蔵","男",{"$f":"VLOOKUP(F120,事務局用!$A$52:$B$56,2)","v":14},null,"2007-03-12"]
["タツミ　タクロウ","辰巳　拓朗","男",{"$f":"VLOOKUP(F121,事務局用!$A$52:$B$56,2)","v":13},null,"2008-01-06"]
["ヤマモト　ハジメ","山元　一",{"$f":"IF($A$106=\"女子\",\"女\",IF($A$106=\"男子\",\"男\",\"\"))","v":"男"},{"$f":"VLOOKUP(F122,事務局用!$A$52:$B$56,2)","v":15},null,"2006-09-12"]
["アラシ　イッサ","嵐　一茶","男",{"$f":"VLOOKUP(F123,事務局用!$A$52:$B$56,2)","v":13},null,"2008-10-10"]
["オオマエ　ヨシオ","大前　義男","男",{"$f":"VLOOKUP(F124,事務局用!$A$52:$B$56,2)","v":15},null,"2006-09-19"]
["サトウ　コウダイ","佐藤　滉大","男",{"$f":"VLOOKUP(F125,事務局用!$A$52:$B$56,2)","v":12},null,"2009-02-04"]
["　","　","男",{"$f":"VLOOKUP(F126,事務局用!$A$52:$B$56,2)","v":{"$error":"#N/A"}},null,"1919-11-30"]
[]
[]
[]
[]
[]
[]
[]
[]
[]
[]
[]
[]
[]
[]
[]
[]
[]
[]
[{"$f":"DBCS(B27&\" \")","v":"トバ　"},{"$f":"D27&\"　\"","v":"鳥羽　"}]
["ササキ　","佐々木　"]
["ミヤモト　","宮本　"]
["タツミ　","辰巳　"]
["ヤマモト　","山元　"]
["アラシ　","嵐　"]
["オオマエ　","大前　"]
["サトウ　","佐藤　"]
["　","　"]

{"sheet":"(参加)同意書","index":3,"n_rows":24,"n_cols":19,"rows_kept":24,"cut":false,"hidden":false,"merged":[[20,2,20,3],[20,4,20,8],[22,2,22,3],[2,0,2,11],[8,1,8,2],[8,3,8,6],[10,1,10,2],[10,3,10,6],[13,1,16,11]]}
["様式５(校長へ提出【学校保管】）"]
[]
["同意書"]
[]
[]
[]
[null,"日本中学校体育連盟　ならびに",null,null,null,null,null,null,null,null,null,null,null,null,"この同意書は"]
[null,null,null,null,null,null,null,null,null,null,null,null,null,null,"日本中学校体育連盟　全国中学校体育大会実施上のCOVID-19感染拡大予防ガイドラインならびに"]
[null,"学校名",null,{"$f":"ﾃﾞｰﾀ入力!B6","v":"近江市立志賀中学校"},null,null,null,null,null,null,null,null,null,null,"本大会「COVID-19感染拡大防止に関する注意事項」に基づき"]
[null,null,null,null,null,null,null,null,null,null,null,null,null,null,"【様式７】学校同行者体調記録表に記載された人数分をプリントアウトし回収してください。"]
[null,"校長名",null,{"$f":"ﾃﾞｰﾀ入力!B14","v":"鈴木　一郎"},null,null,null,"様",null,null,null,null,null,null,null,"監督、外部指導者、エントリー選手、引率教員"]
[null,null,null,null,null,null,null,null,null,null,null,null,null,null,"選手には「鉄剤注射同意書」とあわせて配布・回収してください。"]
[null,null,null,null,null,null,null,null,null,null,null,null,null,null,"プリントアウト後は不要のため、実行委員会へ提出の際このシートの削除をお願いします。"]
[null,"私は日本中学校体育連盟全国中学校駅伝大会に参加するにあたり、健康上の問題はありません。また、同大会の開催要項、日本中学校体育連盟全国中学校体育大会実施上の感染拡大予防ガイドラインに従い同大会に参加することを同意します。",null,null,null,null,null,null,null,null,null,null,null,null,null,null,null,null,"シート削除　…　「Alt」→「E」→「L」"]
[]
[]
[]
[]
[null,null,null,null,"令和 ３ 年　　　月　　　日"]
[]
[null,null,"参加者名"]
[]
[null,null,"保護者名",null,null,null,null,null,null,"㊞"]
[null,null,"※参加者が生徒の場合は保護者も署名捺印してください"]

{"sheet":"様式1","index":4,"n_rows":53,"n_cols":15,"rows_kept":53,"cut":false,"hidden":true,"merged":[[46,0,46,8],[35,0,37,0],[35,1,35,2],[35,3,37,3],[35,4,36,5],[29,12,38,13],[37,4,37,5],[37,6,37,8],[41,6,42,8],[32,6,33,8],[29,6,30,8],[38,3,40,3],[38,4,39,5],[39,1,40,2],[40,4,40,5],[33,1,34,2],[34,4,34,5],[35,6,36,8],[36,1,37,2],[41,0,43,0],[41,1,41,2],[41,3,43,3],[41,4,42,5],[42,1,43,2],[43,4,43,5],[38,0,40,0],[38,1,38,2],[43,6,43,8],[38,6,39,8],[40,6,40,8],[34,6,34,8],[32,0,34,0],[32,1,32,2],[32,3,34,3],[32,4,33,5],[30,1,31,2],[31,4,31,5],[31,6,31,8],[29,0,31,0],[29,1,29,2],[29,3,31,3],[29,4,30,5],[27,1,28,2],[28,4,28,5],[28,6,28,8],[26,0,28,0],[26,1,26,2],[26,3,28,3],[26,4,27,5],[26,6,27,8],[17,0,19,0],[24,1,25,2],[25,4,25,5],[25,6,25,8],[23,0,25,0],[23,1,23,2],[23,3,25,3],[23,4,24,5],[20,0,22,0],[20,1,20,2],[23,6,24,8],[17,3,19,3],[17,4,18,5],[17,6,18,8],[18,1,19,2],[19,4,19,5],[19,6,19,8],[20,3,22,3],[20,4,21,5],[20,6,21,8],[21,1,22,2],[22,4,22,5],[22,6,22,8],[1,0,1,8],[2,0,2,8],[3,0,4,1],[3,2,4,2],[3,3,4,4],[3,5,4,6],[3,7,4,8],[7,0,7,1],[7,7,8,7],[8,0,8,1],[8,2,8,6],[5,0,5,1],[5,2,5,6],[5,7,6,7],[6,0,6,1],[6,2,6,6],[7,2,7,6],[5,8,6,8],[7,8,8,8],[29,14,38,17],[11,0,11,1],[11,2,11,3],[11,4,12,5],[11,6,12,8],[12,0,12,1],[12,2,12,3],[9,2,9,3],[9,4,10,4],[9,5,10,6],[9,7,10,7],[9,8,10,8],[10,2,10,3],[14,1,14,2],[14,3,16,3],[14,4,14,8],[15,1,16,2],[9,0,9,1],[10,0,10,1],[15,4,16,4],[15,5,15,8],[16,5,16,8],[14,0,16,0],[17,1,17,2]]}
[{"$f":"ﾃﾞｰﾀ入力!B2","v":"男子"},null,null,null,null,null,null,null,"様式1"]
[{"$f":"\"令和\"&DBCS(事務局用!B3-2018)&\"年度 第\"&DBCS(事務局用!B3-1992)&\"回全国中学校駅伝大会参加申込書(\"&A1&\")\"","v":"令和３年度 第２９回全国中学校駅伝大会参加申込書(男子)"}]
["☆受付番号（　　　　）"]
["都道府県名",null,{"$f":"ﾃﾞｰﾀ入力!B4","v":"開催地"},"都道府県番号\n(ﾅﾝﾊﾞｰｶｰﾄﾞNo)",null,{"$f":"ﾃﾞｰﾀ入力!B3","v":48},null,"連　　絡　　先",null,null,null,"オーダー提出受付時に"]
[null,null,null,null,null,null,null,null,null,null,null,"実行委員会事務局よりお渡しし"]
["フリガナ",null,{"$f":"DBCS(ﾃﾞｰﾀ入力!B5)","v":"オウミシリツシガチュウガッコウ"},null,null,null,null,"TEL",{"$f":"ﾃﾞｰﾀ入力!B9","v":"077-535-9080"},null,null,"当日の区間配置を記入いただく用紙になります。"]
["学 　校　 名",null,{"$f":"ﾃﾞｰﾀ入力!B6","v":"近江市立志賀中学校"},null,null,null,null,null,null,null,null,"コピーを余分にいただくのは"]
["フリガナ",null,{"$f":"DBCS(ﾃﾞｰﾀ入力!B11&ﾃﾞｰﾀ入力!C11)","v":"シガケンオオツシマツモイッチョウメ２－１"},null,null,null,null,"FAX",{"$f":"ﾃﾞｰﾀ入力!B10","v":"077-535-9081"},null,null,"大会プログラムに掲載する内容の確認作業に使用します。"]
["学校所在地",null,{"$f":"ﾃﾞｰﾀ入力!B12&ﾃﾞｰﾀ入力!C12","v":"滋賀県大津市松本一丁目２－１"}]
["フリガナ",null,{"$f":"DBCS(ﾃﾞｰﾀ入力!B15)","v":"ヤマダ　ハナコ"},null,"職名",{"$f":"ﾃﾞｰﾀ入力!B18","v":"教諭"},null,"任命\n権者",{"$f":"IF(ﾃﾞｰﾀ入力!B18=\"部活指導員\",ﾃﾞｰﾀ入力!P18,\"―\")","v":"―"},null,null,"このシートでのデータ入力作業は一切ありません"]
["監 　督 　名",null,{"$f":"ﾃﾞｰﾀ入力!B16","v":"山田　花子"}]
["フリガナ",null,{"$f":"DBCS(ﾃﾞｰﾀ入力!B20)","v":"フクチ　ノリタカ"},null,"連絡先",null,{"$f":"ﾃﾞｰﾀ入力!B22","v":"080-8303-0607"}]
["引率責任者名",null,{"$f":"ﾃﾞｰﾀ入力!B21","v":"福知　敬孝"}]
[]
["☆\n　区間","フリガナ",null,"学年"]
[null,"選手名"]
[]
[null,{"$f":"DBCS(ﾃﾞｰﾀ入力!B27&\" \"&ﾃﾞｰﾀ入力!C27)","v":"トバ　イチロウ"},null,{"$f":"IF(ﾃﾞｰﾀ入力!F27=0,\"\",ﾃﾞｰﾀ入力!F27)","v":3},{"$f":"IF(ﾃﾞｰﾀ入力!$B$2=\"男子\",\"3000m（\",IF($A$1=\"女子\",\"1500m（\"))","v":"3000m（"},null,{"$f":"IF(ﾃﾞｰﾀ入力!J27=\"\",\"  分  秒  )\",ﾃﾞｰﾀ入力!J27&\"分\"&ﾃﾞｰﾀ入力!K27&\"秒\"&ﾃﾞｰﾀ入力!L27&\"）\")","v":"10分03秒58）"},"　分　秒　)","　分　秒　)"]
[null,{"$f":"ﾃﾞｰﾀ入力!D27&\"　\"&ﾃﾞｰﾀ入力!E27","v":"鳥羽　一郎"},null,null,null,null,"　3分　00秒　記録)","　分　秒　)","　分　秒　)"]
[null,null,null,null,{"$f":"IF(ﾃﾞｰﾀ入力!$B$2=\"男子\",\"1500m（\",IF($A$1=\"女子\",\"800m（\"))","v":"1500m（"},null,{"$f":"IF(ﾃﾞｰﾀ入力!G27=\"\",\"  分  秒  )\",ﾃﾞｰﾀ入力!G27&\"分\"&ﾃﾞｰﾀ入力!H27&\"秒\"&ﾃﾞｰﾀ入力!I27&\"）\")","v":"4分15秒63）"}]
[null,{"$f":"DBCS(ﾃﾞｰﾀ入力!B28&\" \"&ﾃﾞｰﾀ入力!C28)","v":"ササキ　コジロウ"},null,{"$f":"IF(ﾃﾞｰﾀ入力!F28=0,\"\",ﾃﾞｰﾀ入力!F28)","v":2},{"$f":"IF(ﾃﾞｰﾀ入力!$B$2=\"男子\",\"3000m（\",IF($A$1=\"女子\",\"1500m（\"))","v":"3000m（"},null,{"$f":"IF(ﾃﾞｰﾀ入力!J28=\"\",\"  分  秒  )\",ﾃﾞｰﾀ入力!J28&\"分\"&ﾃﾞｰﾀ入力!K28&\"秒\"&ﾃﾞｰﾀ入力!L28&\"）\")","v":"9分16秒23）"}]
[null,{"$f":"ﾃﾞｰﾀ入力!D28&\"　\"&ﾃﾞｰﾀ入力!E28","v":"佐々木　小次郎"}]
[null,null,null,null,{"$f":"IF(ﾃﾞｰﾀ入力!$B$2=\"男子\",\"1500m（\",IF($A$1=\"女子\",\"800m（\"))","v":"1500m（"},null,{"$f":"IF(ﾃﾞｰﾀ入力!G28=\"\",\"  分  秒  )\",ﾃﾞｰﾀ入力!G28&\"分\"&ﾃﾞｰﾀ入力!H28&\"秒\"&ﾃﾞｰﾀ入力!I28&\"）\")","v":"4分40秒25）"}]
[null,{"$f":"DBCS(ﾃﾞｰﾀ入力!B29&\" \"&ﾃﾞｰﾀ入力!C29)","v":"ミヤモト　ムサシ"},null,{"$f":"IF(ﾃﾞｰﾀ入力!F29=0,\"\",ﾃﾞｰﾀ入力!F29)","v":3},{"$f":"IF(ﾃﾞｰﾀ入力!$B$2=\"男子\",\"3000m（\",IF($A$1=\"女子\",\"1500m（\"))","v":"3000m（"},null,{"$f":"IF(ﾃﾞｰﾀ入力!J29=\"\",\"  分  秒  )\",ﾃﾞｰﾀ入力!J29&\"分\"&ﾃﾞｰﾀ入力!K29&\"秒\"&ﾃﾞｰﾀ入力!L29&\"）\")","v":"9分30秒15）"}]
[null,{"$f":"ﾃﾞｰﾀ入力!D29&\"　\"&ﾃﾞｰﾀ入力!E29","v":"宮本　武蔵"}]
[null,null,null,null,{"$f":"IF(ﾃﾞｰﾀ入力!$B$2=\"男子\",\"1500m（\",IF($A$1=\"女子\",\"800m（\"))","v":"1500m（"},null,{"$f":"IF(ﾃﾞｰﾀ入力!G29=\"\",\"  分  秒  )\",ﾃﾞｰﾀ入力!G29&\"分\"&ﾃﾞｰﾀ入力!H29&\"秒\"&ﾃﾞｰﾀ入力!I29&\"）\")","v":"4分25秒60）"}]
[null,{"$f":"DBCS(ﾃﾞｰﾀ入力!B30&\" \"&ﾃﾞｰﾀ入力!C30)","v":"タツミ　タクロウ"},null,{"$f":"IF(ﾃﾞｰﾀ入力!F30=0,\"\",ﾃﾞｰﾀ入力!F30)","v":2},{"$f":"IF(ﾃﾞｰﾀ入力!$B$2=\"男子\",\"3000m（\",IF($A$1=\"女子\",\"1500m（\"))","v":"3000m（"},null,{"$f":"IF(ﾃﾞｰﾀ入力!J30=\"\",\"  分  秒  )\",ﾃﾞｰﾀ入力!J30&\"分\"&ﾃﾞｰﾀ入力!K30&\"秒\"&ﾃﾞｰﾀ入力!L30&\"）\")","v":"9分24秒31）"}]
[null,{"$f":"ﾃﾞｰﾀ入力!D30&\"　\"&ﾃﾞｰﾀ入力!E30","v":"辰巳　拓朗"}]
[null,null,null,null,{"$f":"IF(ﾃﾞｰﾀ入力!$B$2=\"男子\",\"1500m（\",IF($A$1=\"女子\",\"800m（\"))","v":"1500m（"},null,{"$f":"IF(ﾃﾞｰﾀ入力!G30=\"\",\"  分  秒  )\",ﾃﾞｰﾀ入力!G30&\"分\"&ﾃﾞｰﾀ入力!H30&\"秒\"&ﾃﾞｰﾀ入力!I30&\"）\")","v":"4分35秒61）"}]
[null,{"$f":"DBCS(ﾃﾞｰﾀ入力!B31&\" \"&ﾃﾞｰﾀ入力!C31)","v":"ヤマモト　ハジメ"},null,{"$f":"IF(ﾃﾞｰﾀ入力!F31=0,\"\",ﾃﾞｰﾀ入力!F31)","v":3},{"$f":"IF(ﾃﾞｰﾀ入力!$B$2=\"男子\",\"3000m（\",IF($A$1=\"女子\",\"1500m（\"))","v":"3000m（"},null,{"$f":"IF(ﾃﾞｰﾀ入力!J31=\"\",\"  分  秒  )\",ﾃﾞｰﾀ入力!J31&\"分\"&ﾃﾞｰﾀ入力!K31&\"秒\"&ﾃﾞｰﾀ入力!L31&\"）\")","v":"9分45秒23）"},null,null,null,null,null,"ユニフォーム写真データの\n挿入(貼付)場所\n\nサイズ合わせ不要",null,"見本写真を例に\n余分なスペースを\nトリミングしていただけると\nなおありがたいです\nデータ貼付後は\n見本写真を削除してください"]
[null,{"$f":"ﾃﾞｰﾀ入力!D31&\"　\"&ﾃﾞｰﾀ入力!E31","v":"山元　一"}]
[null,null,null,null,{"$f":"IF(ﾃﾞｰﾀ入力!$B$2=\"男子\",\"1500m（\",IF($A$1=\"女子\",\"800m（\"))","v":"1500m（"},null,{"$f":"IF(ﾃﾞｰﾀ入力!G31=\"\",\"  分  秒  )\",ﾃﾞｰﾀ入力!G31&\"分\"&ﾃﾞｰﾀ入力!H31&\"秒\"&ﾃﾞｰﾀ入力!I31&\"）\")","v":"4分35秒15）"}]
[null,{"$f":"DBCS(ﾃﾞｰﾀ入力!B32&\" \"&ﾃﾞｰﾀ入力!C32)","v":"アラシ　イッサ"},null,{"$f":"IF(ﾃﾞｰﾀ入力!F32=0,\"\",ﾃﾞｰﾀ入力!F32)","v":1},{"$f":"IF(ﾃﾞｰﾀ入力!$B$2=\"男子\",\"3000m（\",IF($A$1=\"女子\",\"1500m（\"))","v":"3000m（"},null,{"$f":"IF(ﾃﾞｰﾀ入力!J32=\"\",\"  分  秒  )\",ﾃﾞｰﾀ入力!J32&\"分\"&ﾃﾞｰﾀ入力!K32&\"秒\"&ﾃﾞｰﾀ入力!L32&\"）\")","v":"10分01秒35）"}]
[null,{"$f":"ﾃﾞｰﾀ入力!D32&\"　\"&ﾃﾞｰﾀ入力!E32","v":"嵐　一茶"}]
[null,null,null,null,{"$f":"IF(ﾃﾞｰﾀ入力!$B$2=\"男子\",\"1500m（\",IF($A$1=\"女子\",\"800m（\"))","v":"1500m（"},null,{"$f":"IF(ﾃﾞｰﾀ入力!G32=\"\",\"  分  秒  )\",ﾃﾞｰﾀ入力!G32&\"分\"&ﾃﾞｰﾀ入力!H32&\"秒\"&ﾃﾞｰﾀ入力!I32&\"）\")","v":"4分42秒24）"}]
[null,{"$f":"DBCS(ﾃﾞｰﾀ入力!B33&\" \"&ﾃﾞｰﾀ入力!C33)","v":"オオマエ　ヨシオ"},null,{"$f":"IF(ﾃﾞｰﾀ入力!F33=0,\"\",ﾃﾞｰﾀ入力!F33)","v":3},{"$f":"IF(ﾃﾞｰﾀ入力!$B$2=\"男子\",\"3000m（\",IF($A$1=\"女子\",\"1500m（\"))","v":"3000m（"},null,{"$f":"IF(ﾃﾞｰﾀ入力!J33=\"\",\"  分  秒  )\",ﾃﾞｰﾀ入力!J33&\"分\"&ﾃﾞｰﾀ入力!K33&\"秒\"&ﾃﾞｰﾀ入力!L33&\"）\")","v":"9分10秒11）"}]
[null,{"$f":"ﾃﾞｰﾀ入力!D33&\"　\"&ﾃﾞｰﾀ入力!E33","v":"大前　義男"}]
[null,null,null,null,{"$f":"IF(ﾃﾞｰﾀ入力!$B$2=\"男子\",\"1500m（\",IF($A$1=\"女子\",\"800m（\"))","v":"1500m（"},null,{"$f":"IF(ﾃﾞｰﾀ入力!G33=\"\",\"  分  秒  )\",ﾃﾞｰﾀ入力!G33&\"分\"&ﾃﾞｰﾀ入力!H33&\"秒\"&ﾃﾞｰﾀ入力!I33&\"）\")","v":"4分12秒36）"}]
[null,{"$f":"DBCS(ﾃﾞｰﾀ入力!B34&\" \"&ﾃﾞｰﾀ入力!C34)","v":"サトウ　コウダイ"},null,{"$f":"IF(ﾃﾞｰﾀ入力!F34=0,\"\",ﾃﾞｰﾀ入力!F34)","v":1},{"$f":"IF(ﾃﾞｰﾀ入力!$B$2=\"男子\",\"3000m（\",IF($A$1=\"女子\",\"1500m（\"))","v":"3000m（"},null,{"$f":"IF(ﾃﾞｰﾀ入力!J34=\"\",\"  分  秒  )\",ﾃﾞｰﾀ入力!J34&\"分\"&ﾃﾞｰﾀ入力!K34&\"秒\"&ﾃﾞｰﾀ入力!L34&\"）\")","v":"10分06秒65）"}]
[null,{"$f":"ﾃﾞｰﾀ入力!D34&\"　\"&ﾃﾞｰﾀ入力!E34","v":"佐藤　滉大"}]
[null,null,null,null,{"$f":"IF(ﾃﾞｰﾀ入力!$B$2=\"男子\",\"1500m（\",IF($A$1=\"女子\",\"800m（\"))","v":"1500m（"},null,{"$f":"IF(ﾃﾞｰﾀ入力!G34=\"\",\"  分  秒  )\",ﾃﾞｰﾀ入力!G34&\"分\"&ﾃﾞｰﾀ入力!H34&\"秒\"&ﾃﾞｰﾀ入力!I34&\"）\")","v":"4分35秒15）"},null,null,null,null,false]
[null,{"$f":"DBCS(ﾃﾞｰﾀ入力!B35&\" \"&ﾃﾞｰﾀ入力!C35)","v":"　"},null,{"$f":"IF(ﾃﾞｰﾀ入力!F35=0,\"\",ﾃﾞｰﾀ入力!F35)","v":""},{"$f":"IF($A$1=\"男子\",\"3000m（\",IF($A$1=\"女子\",\"\"))","v":"3000m（"},null,{"$f":"IF($A$1=\"女子\",\"\",IF(ﾃﾞｰﾀ入力!J35=\"\",\"  分  秒  )\",ﾃﾞｰﾀ入力!J35&\"分\"&ﾃﾞｰﾀ入力!K35&\"秒\"&ﾃﾞｰﾀ入力!L35&\"）\"))","v":"  分  秒  )"}]
[null,{"$f":"ﾃﾞｰﾀ入力!D35&\"　\"&ﾃﾞｰﾀ入力!E35","v":"　"}]
[null,null,null,null,{"$f":"IF($A$1=\"男子\",\"1500m（\",IF($A$1=\"女子\",\"\"))","v":"1500m（"},null,{"$f":"IF($A$1=\"女子\",\"\",IF(ﾃﾞｰﾀ入力!G35=\"\",\"  分  秒  )\",ﾃﾞｰﾀ入力!G35&\"分\"&ﾃﾞｰﾀ入力!H35&\"秒\"&ﾃﾞｰﾀ入力!I35&\"）\"))","v":"  分  秒  )"}]
[null,null,null,null,null,null,null,null,null,null,null,"様式1　のプリントアウトは"]
[null,null,null,null,null,null,null,null,null,null,null,"データで実行委員会事務局へ提出しチェックを受けてOKをもらってください"]
["上記の者は、本校在学中で、学校医による健康診断を受けており、標記大会に参加することを承認します。また、大会要項に記載の内容を確認し、本人及び保護者の同意を得ています。なお、宿泊については、宿泊要項を厳守し申し込みます。"]
[]
[{"$f":"\"　　令和\"&DBCS(事務局用!B3-2018)&\"年　　月　　日　\"&ﾃﾞｰﾀ入力!B6&\" 校長　　\"&ﾃﾞｰﾀ入力!B14&\"  　　印　\"","v":"　　令和３年　　月　　日　近江市立志賀中学校 校長　　鈴木　一郎  　　印　"},null,null,null,null,null,null,null,null,null,null,"校長印をもらう前に"]
[null,null,null,null,null,null,null,null,null,null,null,"様式5の同意書を全員分回収し、あわせて提出します"]
[null,{"$f":"\"※　\" & ﾃﾞｰﾀ入力!Q1 & \"正午までに正式1部、コピー3部、計4部を大会事務局まで送ってください。\"","v":"※　11月25日正午までに正式1部、コピー3部、計4部を大会事務局まで送ってください。"}]
[null,"※　☆欄は記入不要です。"]
[null,"※",null,"内については印刷後、日付け記入と捺印してください。"]

{"sheet":"様式2","index":5,"n_rows":35,"n_cols":20,"rows_kept":35,"cut":false,"hidden":true,"merged":[[17,19,24,20],[17,15,26,18],[0,10,0,12],[1,0,1,12],[2,6,2,12],[3,0,3,1],[3,3,3,5],[3,6,3,12],[18,4,18,5],[18,11,18,12],[4,0,4,1],[4,3,4,8],[4,10,4,12],[5,0,5,1],[5,2,5,7],[14,0,14,1],[33,1,33,13],[21,4,21,5],[21,11,21,12],[26,4,26,5],[26,11,26,12],[32,1,32,13],[30,4,30,5],[30,11,30,12],[20,4,20,5],[20,11,20,12],[29,4,29,5],[29,11,29,12],[7,1,7,12],[9,1,9,12],[11,1,11,12],[23,4,23,5],[23,11,23,12],[24,4,24,5],[24,11,24,12],[27,4,27,5],[27,11,27,12],[17,4,17,5],[17,11,17,12],[14,2,14,5]]}
[{"$f":"ﾃﾞｰﾀ入力!B2","v":"男子"},{"$f":"事務局用!B3","v":2021},null,null,null,null,null,null,null,null,"様式2","様式1-②","様式1-②"]
[{"$f":"\"令和\"&DBCS(B1-2018)&\"年度 第\"&DBCS(B1-1992)&\"回全国中学校駅伝大会参加申込書(\"&$A$1&\")\"","v":"令和３年度 第２９回全国中学校駅伝大会参加申込書(男子)"}]
[null,null,null,null,null,null,""]
["ﾅﾝﾊﾞｰｶｰﾄﾞNo.",null,{"$f":"ﾃﾞｰﾀ入力!B3","v":48},"学校名（ﾌﾘｶﾞﾅ）",null,null,{"$f":"ﾃﾞｰﾀ入力!B6&\"(\"&ﾃﾞｰﾀ入力!B5&\")\"","v":"近江市立志賀中学校(ｵｳﾐｼﾘﾂｼｶﾞﾁｭｳｶﾞｯｺｳ)"}]
["学校住所　〒",null,{"$f":"ﾃﾞｰﾀ入力!B13","v":"520-0807"},{"$f":"ﾃﾞｰﾀ入力!B12&ﾃﾞｰﾀ入力!C12","v":"滋賀県大津市松本一丁目２－１"},null,null,null,null,null,"TEL",{"$f":"ﾃﾞｰﾀ入力!B9","v":"077-535-9080"}]
["略学校名(ﾌﾘｶﾞﾅ)",null,{"$f":"ﾃﾞｰﾀ入力!B8&\"（\"&ﾃﾞｰﾀ入力!B7&\"）\"","v":"志賀（ｼｶﾞ）"},null,null,null,null,null,null,null,null,null,null,null,null,"大会プログラムに掲載されるデータ情報です。"]
["１．学校紹介（50字以内）",null,null,null,null,null,null,null,null,null,null,null,null,null,null,"体裁は年度によって異なります。"]
[null,{"$f":"ﾃﾞｰﾀ入力!B36:O36","v":"琵琶湖の西岸にある学校です。いつでも湖岸で走ることができます。"}]
["２．監督からのチーム紹介（120字以内）",null,null,null,null,null,null,null,null,null,null,null,null,null,null,"このシートでのデータ入力作業は一切ありません"]
[null,{"$f":"ﾃﾞｰﾀ入力!B37:O37","v":"エースを中心にまとまりのあるチームです。誰が出ても遜色ないくらいに力も拮抗しており、その中で切磋琢磨して勝ち上がってきました。粘り強く最後まで頑張ります。"}]
["３．大会に向けての抱負（選手から）（120字以内）"]
[null,{"$f":"ﾃﾞｰﾀ入力!B38:O38","v":"前半では全国で勝負できる選手はいませんが、後半同じレベルの選手ばかりで粘り強く追いかけ勝負を挑み、８位入賞を目指します。"}]
["４．監督及び選手プロフィール"]
[]
["監督名",null,{"$f":"ﾃﾞｰﾀ入力!B16","v":"山田　花子"}]
[]
["①","名前(主将)",{"$f":"ﾃﾞｰﾀ入力!D27&\"　\"&ﾃﾞｰﾀ入力!E27","v":"鳥羽　一郎"},null,"学年",{"$f":"ﾃﾞｰﾀ入力!F27","v":3},null,{"$f":"IF(A1=\"女子\",\"⑤\",\"⑥\")","v":"⑥"},"名前",{"$f":"IF(A1=\"女子\",ﾃﾞｰﾀ入力!D31&\"　\"&ﾃﾞｰﾀ入力!E31,ﾃﾞｰﾀ入力!D32&\"　\"&ﾃﾞｰﾀ入力!E32)","v":"嵐　一茶"},null,"学年",{"$f":"IF(A1=\"女子\",ﾃﾞｰﾀ入力!F31,ﾃﾞｰﾀ入力!F32)","v":1}]
[null,null,{"$f":"IF($A$1=\"女子\",\"1,500m\",\"3,000m\")","v":"3,000m"},null,{"$f":"IF($A$1=\"女子\",\"800m\",\"1,500m\")","v":"1,500m"},null,null,null,null,{"$f":"IF($A$1=\"女子\",\"1,500m\",\"3,000m\")","v":"3,000m"},null,{"$f":"IF($A$1=\"女子\",\"800m\",\"1,500m\")","v":"1,500m"},null,null,null,"集合写真データの挿入(貼付）場所\n\nサイズ合わせ不要",null,null,null,"\nトリミング不要\n集合写真データは\nこれとは別に\nメールで要領オーバーにならなければ添付もお願い\nします"]
[null,null,{"$f":"ﾃﾞｰﾀ入力!J27&\"分\"&ﾃﾞｰﾀ入力!K27&\"秒\"&ﾃﾞｰﾀ入力!L27","v":"10分03秒58"},null,{"$f":"ﾃﾞｰﾀ入力!G27&\"分\"&ﾃﾞｰﾀ入力!H27&\"秒\"&ﾃﾞｰﾀ入力!I27","v":"4分15秒63"},null,null,null,null,{"$f":"IF(A1=\"女子\",ﾃﾞｰﾀ入力!J31&\"分\"&ﾃﾞｰﾀ入力!K31&\"秒\"&ﾃﾞｰﾀ入力!L31,ﾃﾞｰﾀ入力!J32&\"分\"&ﾃﾞｰﾀ入力!K32&\"秒\"&ﾃﾞｰﾀ入力!L32)","v":"10分01秒35"},null,{"$f":"IF(A1=\"女子\",ﾃﾞｰﾀ入力!G31&\"分\"&ﾃﾞｰﾀ入力!H31&\"秒\"&ﾃﾞｰﾀ入力!I31,ﾃﾞｰﾀ入力!G32&\"分\"&ﾃﾞｰﾀ入力!H32&\"秒\"&ﾃﾞｰﾀ入力!I32)","v":"4分42秒24"}]
["②","名前",{"$f":"ﾃﾞｰﾀ入力!D28&\"　\"&ﾃﾞｰﾀ入力!E28","v":"佐々木　小次郎"},null,"学年",{"$f":"ﾃﾞｰﾀ入力!F28","v":2},null,{"$f":"IF(A1=\"女子\",\"⑥\",\"⑦\")","v":"⑦"},"名前",{"$f":"IF(A1=\"女子\",ﾃﾞｰﾀ入力!D32&\"　\"&ﾃﾞｰﾀ入力!E32,ﾃﾞｰﾀ入力!D33&\"　\"&ﾃﾞｰﾀ入力!E33)","v":"大前　義男"},null,"学年",{"$f":"IF(A1=\"女子\",ﾃﾞｰﾀ入力!F32,ﾃﾞｰﾀ入力!F33)","v":3}]
[null,null,{"$f":"IF($A$1=\"女子\",\"1,500m\",\"3,000m\")","v":"3,000m"},null,{"$f":"IF($A$1=\"女子\",\"800m\",\"1,500m\")","v":"1,500m"},null,null,null,null,{"$f":"IF($A$1=\"女子\",\"1,500m\",\"3,000m\")","v":"3,000m"},null,{"$f":"IF($A$1=\"女子\",\"800m\",\"1,500m\")","v":"1,500m"}]
[null,null,{"$f":"IF(ﾃﾞｰﾀ入力!J28=\"\",\"　分　秒\",ﾃﾞｰﾀ入力!J28&\"分\"&ﾃﾞｰﾀ入力!K28&\"秒\"&ﾃﾞｰﾀ入力!L28)","v":"9分16秒23"},null,{"$f":"IF(ﾃﾞｰﾀ入力!G28=\"\",\"　分　秒\",ﾃﾞｰﾀ入力!G28&\"分\"&ﾃﾞｰﾀ入力!H28&\"秒\"&ﾃﾞｰﾀ入力!I28)","v":"4分40秒25"},null,null,null,null,{"$f":"IF(A1=\"女子\",ﾃﾞｰﾀ入力!J32&\"分\"&ﾃﾞｰﾀ入力!K32&\"秒\"&ﾃﾞｰﾀ入力!L32,ﾃﾞｰﾀ入力!J33&\"分\"&ﾃﾞｰﾀ入力!K33&\"秒\"&ﾃﾞｰﾀ入力!L33)","v":"9分10秒11"},null,{"$f":"IF(A1=\"女子\",ﾃﾞｰﾀ入力!G32&\"分\"&ﾃﾞｰﾀ入力!H32&\"秒\"&ﾃﾞｰﾀ入力!I32,ﾃﾞｰﾀ入力!G33&\"分\"&ﾃﾞｰﾀ入力!H33&\"秒\"&ﾃﾞｰﾀ入力!I33)","v":"4分12秒36"}]
["③","名前",{"$f":"ﾃﾞｰﾀ入力!D29&\"　\"&ﾃﾞｰﾀ入力!E29","v":"宮本　武蔵"},null,"学年",{"$f":"ﾃﾞｰﾀ入力!F29","v":3},null,{"$f":"IF(A1=\"女子\",\"⑦\",\"⑧\")","v":"⑧"},"名前",{"$f":"IF(A1=\"女子\",ﾃﾞｰﾀ入力!D33&\"　\"&ﾃﾞｰﾀ入力!E33,ﾃﾞｰﾀ入力!D34&\"　\"&ﾃﾞｰﾀ入力!E34)","v":"佐藤　滉大"},null,"学年",{"$f":"IF(A1=\"女子\",ﾃﾞｰﾀ入力!F33,ﾃﾞｰﾀ入力!F34)","v":1}]
[null,null,{"$f":"IF($A$1=\"女子\",\"1,500m\",\"3,000m\")","v":"3,000m"},null,{"$f":"IF($A$1=\"女子\",\"800m\",\"1,500m\")","v":"1,500m"},null,null,null,null,{"$f":"IF($A$1=\"女子\",\"1,500m\",\"3,000m\")","v":"3,000m"},null,{"$f":"IF($A$1=\"女子\",\"800m\",\"1,500m\")","v":"1,500m"}]
[null,null,{"$f":"IF(ﾃﾞｰﾀ入力!J29=\"\",\"　分　秒\",ﾃﾞｰﾀ入力!J29&\"分\"&ﾃﾞｰﾀ入力!K29&\"秒\"&ﾃﾞｰﾀ入力!L29)","v":"9分30秒15"},null,{"$f":"IF(ﾃﾞｰﾀ入力!G29=\"\",\"　分　秒\",ﾃﾞｰﾀ入力!G29&\"分\"&ﾃﾞｰﾀ入力!H29&\"秒\"&ﾃﾞｰﾀ入力!I29)","v":"4分25秒60"},null,null,null,null,{"$f":"IF(A1=\"女子\",ﾃﾞｰﾀ入力!J33&\"分\"&ﾃﾞｰﾀ入力!K33&\"秒\"&ﾃﾞｰﾀ入力!L33,ﾃﾞｰﾀ入力!J34&\"分\"&ﾃﾞｰﾀ入力!K34&\"秒\"&ﾃﾞｰﾀ入力!L34)","v":"10分06秒65"},null,{"$f":"IF(A1=\"女子\",ﾃﾞｰﾀ入力!G33&\"分\"&ﾃﾞｰﾀ入力!H33&\"秒\"&ﾃﾞｰﾀ入力!I33,ﾃﾞｰﾀ入力!G34&\"分\"&ﾃﾞｰﾀ入力!H34&\"秒\"&ﾃﾞｰﾀ入力!I34)","v":"4分35秒15"}]
["④","名前",{"$f":"ﾃﾞｰﾀ入力!D30&\"　\"&ﾃﾞｰﾀ入力!E30","v":"辰巳　拓朗"},null,"学年",{"$f":"ﾃﾞｰﾀ入力!F30","v":2},null,{"$f":"IF(A1=\"女子\",\"⑧\",\"⑨\")","v":"⑨"},"名前",{"$f":"IF(A1=\"女子\",ﾃﾞｰﾀ入力!D34&\"　\"&ﾃﾞｰﾀ入力!E34,ﾃﾞｰﾀ入力!D35&\"　\"&ﾃﾞｰﾀ入力!E35)","v":"　"},null,"学年",{"$f":"IF(A1=\"女子\",ﾃﾞｰﾀ入力!F34,ﾃﾞｰﾀ入力!F35)","v":0}]
[null,null,{"$f":"IF($A$1=\"女子\",\"1,500m\",\"3,000m\")","v":"3,000m"},null,{"$f":"IF($A$1=\"女子\",\"800m\",\"1,500m\")","v":"1,500m"},null,null,null,null,{"$f":"IF($A$1=\"女子\",\"1,500m\",\"3,000m\")","v":"3,000m"},null,{"$f":"IF($A$1=\"女子\",\"800m\",\"1,500m\")","v":"1,500m"}]
[null,null,{"$f":"IF(ﾃﾞｰﾀ入力!J30=\"\",\"　分　秒\",ﾃﾞｰﾀ入力!J30&\"分\"&ﾃﾞｰﾀ入力!K30&\"秒\"&ﾃﾞｰﾀ入力!L30)","v":"9分24秒31"},null,{"$f":"IF(ﾃﾞｰﾀ入力!G30=\"\",\"　分　秒\",ﾃﾞｰﾀ入力!G30&\"分\"&ﾃﾞｰﾀ入力!H30&\"秒\"&ﾃﾞｰﾀ入力!I30)","v":"4分35秒61"},null,null,null,null,{"$f":"IF(A1=\"女子\",ﾃﾞｰﾀ入力!J34&\"分\"&ﾃﾞｰﾀ入力!K34&\"秒\"&ﾃﾞｰﾀ入力!L34,ﾃﾞｰﾀ入力!J35&\"分\"&ﾃﾞｰﾀ入力!K35&\"秒\"&ﾃﾞｰﾀ入力!L35)","v":"分秒"},null,{"$f":"IF(A1=\"女子\",ﾃﾞｰﾀ入力!G34&\"分\"&ﾃﾞｰﾀ入力!H34&\"秒\"&ﾃﾞｰﾀ入力!I34,ﾃﾞｰﾀ入力!G35&\"分\"&ﾃﾞｰﾀ入力!H35&\"秒\"&ﾃﾞｰﾀ入力!I35)","v":"分秒"}]
["⑤","名前",{"$f":"ﾃﾞｰﾀ入力!D31&\"　\"&ﾃﾞｰﾀ入力!E31","v":"山元　一"},null,"学年",{"$f":"ﾃﾞｰﾀ入力!F31","v":3},null,null,null,null,null,null,null,null,null,null,false]
[null,null,"3,000m",null,"1,500m","1,500"]
[null,null,{"$f":"IF(ﾃﾞｰﾀ入力!J31=\"\",\"　分　秒\",ﾃﾞｰﾀ入力!J31&\"分\"&ﾃﾞｰﾀ入力!K31&\"秒\"&ﾃﾞｰﾀ入力!L31)","v":"9分45秒23"},null,{"$f":"IF(ﾃﾞｰﾀ入力!G31=\"\",\"　分　秒\",ﾃﾞｰﾀ入力!G31&\"分\"&ﾃﾞｰﾀ入力!H31&\"秒\"&ﾃﾞｰﾀ入力!I31)","v":"4分35秒15"}]
[]
[null,"※ 写真１枚[Ｌｻｲｽﾞ、監督も一緒のもの、裏に都道府県名と校名を記入]を添えて"]
[null,{"$f":"事務局用!C3&\"(\"&事務局用!D3&\")\"&\"正午までに正式1部、コピー1部、計２部を大会事務局まで送ってください｡\"","v":"11月25日(木)正午までに正式1部、コピー1部、計２部を大会事務局まで送ってください｡"}]
[{"$f":"様式4!D7","v":8},null,"※写真はデータ(jpg）も送付してください。"]

{"sheet":"様式3","index":6,"n_rows":24,"n_cols":15,"rows_kept":24,"cut":false,"hidden":true,"merged":[[6,11,10,11],[0,11,1,11],[8,6,8,8],[7,4,7,5],[19,2,19,8],[6,4,6,7],[4,11,5,11],[18,2,18,8],[7,1,9,1],[11,6,11,8],[12,6,12,8],[22,2,22,8],[20,4,20,5],[20,2,20,3],[16,1,16,8],[14,1,14,8],[10,6,10,9],[21,2,21,8],[20,6,20,8]]}
[null,null,null,null,null,null,null,null,null,{"$f":"\"令和\"&DBCS(事務局用!B3-2018)&\"年     　月　　　日\"","v":"令和３年     　月　　　日"}]
[]
["全国中学校駅伝大会　　　　　　　　　 "]
["滋賀県実行委員会　　　　　　　　　 "]
["会長  永井　　泉 様",null,null,null,null,null,null,null,null,null,null,"【該当の学校のみ】\nこのシートでは下方にある色付きのセルのみ入力してください。\n入力したらこのシートをプリントアウトしてください。"]
[null,null,null,null,null,{"$f":"VLOOKUP(G8,県№,2,FALSE)","v":"開催地"}]
[null,null,null,null,{"$f":"LEFT(ﾃﾞｰﾀ入力!B6,LEN(ﾃﾞｰﾀ入力!B6)-3)","v":"近江市立志賀"},null,null,null,"中学校",null,null,"なお、写真データは貼り付けることができます。\n写真データは該当者に\n「①都道府県番号」「②男or女の部」「③学校名」「④氏名」\nを書いた紙を胸の下あたりに持っていただいて撮影し、このシートに貼り付けてください。\nそして、写真添付の欄に貼り付ける際は①②③④を隠すようにトリミングし、プリントアウト。\nその後、公印を押して提出してください。\nなお上の操作ができた場合、写真データはをまた別に添付いただく必要はありません。"]
[null,"写真貼付\n（３０㎜×２４㎜）\n上半身・無背景\n無帽・正面",null,null,"都道府県番号(",null,{"$f":"ﾃﾞｰﾀ入力!B3","v":48},")",{"$f":"ﾃﾞｰﾀ入力!B2","v":"男子"}]
[null,null,null,null,null,"校長",{"$f":"ﾃﾞｰﾀ入力!B14","v":"鈴木　一郎"},null,null,"(公印)"]
[null,null,null,null,null,"住所",{"$f":"\"〒 \"&ﾃﾞｰﾀ入力!B13","v":"〒 520-0807"}]
[null,null,null,null,null,null,{"$f":"ﾃﾞｰﾀ入力!B12&\"\n\"&ﾃﾞｰﾀ入力!C12","v":"滋賀県\n大津市松本一丁目２－１"}]
[null,null,null,null,null,"電話",{"$f":"ﾃﾞｰﾀ入力!B9","v":"077-535-9080"}]
[null,null,null,null,null,"ＦＡＸ",{"$f":"ﾃﾞｰﾀ入力!B10","v":"077-535-9081"}]
[null,null,null,null,null,null,null,null,null,null,null,false]
[null,"外部指導者（コーチ）確認書（校長承認書）",null,null,null,null,null,null,null,null,null,{"$f":"IF($L$14=FALSE,N15,O15)","v":"写真データは準備できたものの貼付できなかった場合は"},null,"写真データは準備できたものの貼付できなかった場合は","写真データを貼付できた場合は"]
[null,null,null,null,null,null,null,null,null,null,null,{"$f":"IF($L$14=FALSE,N16,O16)","v":"✔マークを入れないようにお願いします"},null,"✔マークを入れないようにお願いします","Ⅼ版写真をご用意いただく必要はなくなります"]
[null,{"$f":"\"　下記の者を、本校が令和\"&DBCS(事務局用!B3-2018)&\"年度全国中学校体育大会第\"&DBCS(事務局用!B3-1992)&\"回全国中学校駅伝大会出場に際して、外部指導者（コーチ）として承認しました。\"","v":"　下記の者を、本校が令和３年度全国中学校体育大会第２９回全国中学校駅伝大会出場に際して、外部指導者（コーチ）として承認しました。"},null,null,null,null,null,null,null,null,null,{"$f":"IF($L$14=FALSE,N17,O17)","v":"なおⅬ版写真を1枚ご用意いただき、この用紙をプリントアウトしたのち"},null,"なおⅬ版写真を1枚ご用意いただき、この用紙をプリントアウトしたのち","この用紙をそのままプリントアウトしたのち"]
[null,null,null,null,null,null,null,null,null,null,null,{"$f":"IF($L$14=FALSE,N18,O18)","v":"所定の欄に貼り付けて、公印をいただいてください"},null,"所定の欄に貼り付けて、公印をいただいてください","公印をいただいてください"]
[null,"フリガナ",null,null,null,null,null,null,null,null,null,{"$f":"IF($L$14=FALSE,N20,\"\")","v":"写真データはこのファイルと別添付でご送付ください"}]
[null,"名前",null,null,null,null,null,null,null,null,null,null,null,"写真データはこのファイルと別添付でご送付ください"]
[null,"性別",null,null,"年齢",null,null,null,null,null,null,"確認"]
[null,"職業",null,null,null,null,null,null,null,null,null,"外部指導者は生徒引率ができません"]
[null,"学校との\nかかわり",null,null,null,null,null,null,null,{"$f":"COUNTA(C20:I23)","v":1},null,"プリントアウト…「Ctrl」＋「P」　→　「Enter」"]
[null,null,"※本書で得た個人情報は目的外に使用することはありません。"]

{"sheet":"様式4","index":7,"n_rows":61,"n_cols":42,"rows_kept":61,"cut":false,"hidden":true,"merged":[[60,29,60,43],[46,43,48,43],[48,37,49,37],[48,39,49,40],[49,28,49,30],[49,31,49,36],[49,41,51,42],[49,43,51,43],[50,28,52,29],[50,30,52,36],[50,37,53,38],[50,39,51,40],[52,39,53,40],[52,41,53,42],[52,43,53,43],[53,28,53,30],[53,31,53,36],[44,28,44,30],[44,31,44,42],[46,28,48,29],[46,30,48,36],[46,37,47,37],[46,39,47,40],[46,41,48,42],[27,4,27,13],[42,28,42,35],[42,36,42,42],[20,3,20,12],[1,45,2,45],[18,6,18,7],[11,6,11,7],[12,6,12,7],[11,8,11,12],[12,8,12,12],[14,9,14,11],[13,0,13,13],[12,0,12,2],[14,6,14,7],[24,1,24,13],[21,7,21,12],[21,0,21,1],[15,0,16,0],[19,0,20,2],[17,0,17,1],[0,0,0,14],[1,0,1,14],[14,0,14,2],[6,5,6,7],[7,5,7,7],[3,0,3,1],[6,0,6,1],[14,3,15,5],[9,0,11,1],[9,6,9,7],[3,8,4,13],[6,8,6,13],[4,0,5,1],[17,9,17,11],[15,6,15,7],[16,3,17,5],[16,6,16,7],[17,6,17,7],[18,0,18,1],[15,9,15,11],[16,9,16,11],[7,0,7,1],[8,0,8,2],[18,3,19,5],[19,6,19,7],[19,10,19,13],[1,27,1,32],[9,2,10,2],[9,3,9,4],[9,9,9,10],[3,6,5,7],[8,6,8,7],[4,2,5,5],[3,2,3,5],[10,6,10,7],[10,8,10,12],[1,21,1,24],[1,20,2,20],[1,19,2,19],[1,18,2,18],[8,9,8,12],[7,9,7,12],[1,35,1,37],[1,38,1,40],[1,41,1,43],[0,35,0,44],[1,33,1,34],[21,2,21,4],[1,25,1,26],[15,21,15,22],[16,21,16,22],[17,21,17,22]]}
[{"$f":"\"令和\"&DBCS(事務局用!B3-2018)&\"年度全国中学校体育大会\"","v":"令和３年度全国中学校体育大会"}]
[{"$f":"\"第\"&事務局用!B3-1992&\"回全国中学校駅伝大会参加料等振込一覧表\"","v":"第29回全国中学校駅伝大会参加料等振込一覧表"}]
[]
["都道府県番号",null,"都道府県名",null,null,null,"学校名",null,"志賀"]
[{"$f":"ﾃﾞｰﾀ入力!B3","v":48},null,{"$f":"ﾃﾞｰﾀ入力!B4","v":"開催地"}]
[null,null,null,null,null,null,null,null,null,null,null,null,null,"中学校"]
["参加料",null,{"$f":"ﾃﾞｰﾀ入力!B2","v":"男子"},{"$f":"IF(P8=2,\"\",COUNTA(ﾃﾞｰﾀ入力!F27:F35))","v":8},"名×",4000,null,null,{"$f":"\"　　合計 \"&D7+D8&\" 名分\"","v":"　　合計 8 名分"},null,null,null,null,null,null,false,"男女同一校で領収書をまとめて問題なければ、１枚にすべて入力ください"]
["※１",null,{"$f":"IF(C7=\"男子\",\"女子\",\"男子\")","v":"女子"},null,"名×",{"$f":"F7","v":4000},null,null,"ⓐ",{"$f":"IF(P8=2,\"\",(D7+D8)*F8)","v":32000},null,null,null,"円",null,3]
["プログラム",null,null,null,null,"冊×",2000,null,"ⓑ",{"$f":"IF(P8=2,\"\",E9*G9)","v":0},null,null,null,"円",null,null,null,null,null,{"$f":"C8","v":"女子"}]
[{"$f":"事務局用!AK8","v":"大会オリジナル\nクリアファイル\n滋賀PR3種\n出場校一覧"},null,"2枚組\n(滋賀PR＋\n出場校一覧）",{"$f":"事務局用!AK9","v":"A"},null,0,{"$f":"事務局用!AL9","v":"B"},null,0,{"$f":"事務局用!AM9","v":"C"},null,0]
[null,null,null,null,{"$f":"F10+I10+L10","v":0},"組×",400,null,{"$f":"IF(P8=2,\"\",E11*G11)","v":0},null,null,null,null,"円"]
[null,null,"全種\n4枚1組",null,0,"組×",700,null,{"$f":"IF(P8=2,\"\",E12*G12)","v":0},null,null,null,null,"円"]
[{"$f":"事務局用!AQ8","v":"PCR検査"},null,null,null,0,"人×",2500,null,{"$f":"IF(P8=2,\"\",E13*G13)","v":0},null,null,null,null,"円"]
["テント類申込",null,null,null,null,null,null,null,null,null,null,null,null,null,null,false]
[null,null,null,null,null,null," テーブル",null,0,"テント横幕付",null,null,null,{"$f":"COUNTIF(P15:P19,1)","v":0},null,0]
["テント","横幕付き1張",20000,null,null,null," パイプ椅子",null,0,"テント横幕なし",null,null,null,{"$f":"COUNTIF(P15:P19,2)","v":0}]
[null,"横幕なし1張",17000,null,null,null," テーブル",null,0,"テーブル",null,null,null,{"$f":"I15+I17+I19","v":0},null,0]
["テーブル1台",null,1500,null,null,null," パイプ椅子",null,0,"パイプ椅子",null,null,null,{"$f":"I16+I18+I20","v":0}]
["パイプ椅子1脚",null,700,null,null,null," テーブル",null,0,null,null,null,null,"の申込をします　",null,0,null,"今年度応援テントの申し込みはできません"]
[{"$f":"IF(P14=TRUE,P43,IF(P8=2,\"\",P44))","v":"テント類を申し込む場合は\n右欄入力および下欄選択\n記入してください"},null,null,null,null,null," パイプ椅子",null,0,"ⓒ",{"$f":"IF(P8=2,\"\",C16*N15+C17*N16+C18*N17+C19*N18)","v":0}]
[null,null,null,null,null,null,null,null,null,null,null,null,null,"円",null,false]
["合計金額\n※２",null,"ⓐ＋ⓑ＋ⓒ",null,null,null,null,{"$f":"IF(P8=2,\"\",K20+I13+I12+I11+J9+J8)","v":32000},null,null,null,null,null,"円"]
[]
["※１","参加料は、エントリーした選手全員（区間走者＋補員）分です。"]
["※２","代金を、同封の郵便振込用紙にて１１月２６日（金）～３０日（火）までに振り込んでください。\n（手数料は自校負担となります。）"]
["※３","領収書については、監督会議にてお渡しします。（期日までに振り込んだ学校のみ）"]
[]
[{"$f":"IF(P14=TRUE,\"\",\"大会中止時の(テント類)返金方法\")","v":"大会中止時の(テント類)返金方法"},null,null,null,null,null,null,null,null,null,null,null,null,null,null,0]
[null,null,null,null,null,null,null,null,null,null,null,null,null,null,null,null,null,"ゆうちょ銀行口座へ送金（紙媒体直接記入）"]
[null,null,null,null,null,null,null,null,null,null,null,null,null,null,null,null,null,"ゆうちょ銀行以外の指定金融機関口座へ送金（紙媒体直接記入）"]
[null,null,null,null,null,null,null,null,null,null,null,null,null,null,null,null,null,"郵便為替にして他の配送物と合わせて送金"]
[null,null,null,null,null,null,null,null,null,null,null,null,null,null,null,null,null,"郵便為替にして他の配送物よりも早く送金（書留希望なら紙媒体直接記入）"]
[{"$f":"IF(OR(P28=1,P28=2),\"　内容に間違いないことを確認しました。返金ありの場合、こちらへの送金をお願いします\",\"\")","v":""},null,null,null,null,null,null,null,null,null,null,null,null,null,null,null,null,"現金書留郵便で送金"]
[null,{"$f":"IF(OR(P28=1,P28=2),\"令和3年　　 月 　　日\",\"\")","v":""},null,null,null,null,null,null,null,null,null,null,{"$f":"IF(OR(P28=1,P28=2),\"校長名　　\"&ﾃﾞｰﾀ入力!B14&\"　　印\",\"\")","v":""}]
["未使用の場合は年内で、使用の場合は送金1か月後目安で適正に廃棄します。"]
[null,null,null,null,null,null,null,null,null,null,null,null,null,null,null,null,null,"テント類の申し込み欄も必ず青色セルのいずれかを選択入力してください"]
[]
[null,null,null,null,null,null,null,null,null,null,null,null,null,null,0,"-"]
[null,null,null,null,null,null,null,null,null,null,null,null,null,null,1,"幕付"]
[null,null,null,null,null,null,null,null,null,null,null,null,null,null,2,"幕なし"]
[null,null,null,null,null,null,null,null,null,null,null,null,null,null,3,"-",null,null,null,null,null,null,null,null,null,null,null,null,{"$f":"C7","v":"男子"}]
[]
[null,null,null,null,null,null,null,null,null,null,null,null,null,null,null,"会場から退園の際はお手数ですが、毎日自校の荷物撤収を必ずお願いします",null,null,null,null,null,null,null,null,null,null,null,null,"口座記号",null,null,null,null,null,null,null,"口座番号(右詰めで記入)"]
[null,null,null,null,null,null,null,null,null,null,null,null,null,null,null,"テント類を申し込む場合は\n右欄入力および下欄選択\n記入してください"]
[null,null,null,null,null,null,null,null,null,null,null,null,null,null,null,null,null,null,null,null,null,null,null,null,null,null,null,null,"加入者名"]
[]
[null,null,null,null,null,null,null,null,null,null,null,null,null,null,null,null,null,null,null,null,null,null,null,null,null,null,null,null,"金融\n機関名",null,null,null,null,null,null,null,null,"銀行",null,"信用金庫",null,"口座\n番号"]
[]
[null,null,null,null,null,null,null,null,null,null,null,null,null,null,null,null,null,null,null,null,null,null,null,null,null,null,null,null,null,null,null,null,null,null,null,null,null,"金庫",null,"組合"]
[null,null,null,null,null,null,null,null,null,null,null,null,null,null,null,null,null,null,null,null,null,null,null,null,null,null,null,null,"金融機関ｺｰﾄﾞ",null,null,"（　　　　　　　）",null,null,null,null,null,null,null,null,null,"口座\n名義人"]
[null,null,null,null,null,null,null,null,null,null,null,null,null,null,null,null,null,null,null,null,null,null,null,null,null,null,null,null,"支店名",null,null,null,null,null,null,null,null,"種別",null,"普通"]
[]
[null,null,null,null,null,null,null,null,null,null,null,null,null,null,null,null,null,null,null,null,null,null,null,null,null,null,null,null,null,null,null,null,null,null,null,null,null,null,null,"当座",null,"フリガナ"]
[null,null,null,null,null,null,null,null,null,null,null,null,null,null,null,null,null,null,null,null,null,null,null,null,null,null,null,null,"支店ｺｰﾄﾞ",null,null,"（）"]
[]
[null,null,null,null,null,null,null,null,null,null,null,null,null,null,null,null,null,null,null,null,null,null,null,null,null,null,null,null,"郵便為替にして他の配送物と合わせて郵送してください"]
[null,null,null,null,null,null,null,null,null,null,null,null,null,null,null,null,null,null,null,null,null,null,null,null,null,null,null,null,null,"(為替手数料差引負担：額面5万円未満437円　5万円以上662円）"]
[null,null,null,null,null,null,null,null,null,null,null,null,null,null,null,null,null,null,null,null,null,null,null,null,null,null,null,null,"郵便為替にして他の配送物よりも早く郵送してください"]
[null,null,null,null,null,null,null,null,null,null,null,null,null,null,null,null,null,null,null,null,null,null,null,null,null,null,null,null,null,"(郵送料も追加で差引負担）"]
[null,null,null,null,null,null,null,null,null,null,null,null,null,null,null,null,null,null,null,null,null,null,null,null,null,null,null,null,"現金書留郵便で送金してください"]
[null,null,null,null,null,null,null,null,null,null,null,null,null,null,null,null,null,null,null,null,null,null,null,null,null,null,null,null,null,"（現金封筒21円、郵送料94円（一律）、\n書留料：1万円以下435円[5千円ごと+10円]）を差引負担し、\n残額の50円単位の金額(端数切捨て)で郵送"]

{"sheet":"鉄剤注射同意書","index":8,"n_rows":28,"n_cols":14,"rows_kept":28,"cut":false,"hidden":true,"merged":[[26,0,26,8],[3,0,3,8],[3,12,4,12],[3,13,4,16],[4,0,4,8],[6,0,6,8],[7,0,7,1],[8,2,8,6],[25,0,25,8]]}
["公益財団法人日本陸上競技連盟",null,null,null,null,null,null,null,null,1]
["専務理事　風間　明　殿",null,null,null,null,null,null,null,null,8,null,null,"←","このボタンをクリックするとエントリー選手人数分印刷されます"]
[]
[{"$f":"\"令和\"&DBCS(事務局用!B3-2018)&\"年度全国中学校体育大会 第\"&事務局用!B3-1992&\"回全国中学校駅伝大会\"","v":"令和３年度全国中学校体育大会 第29回全国中学校駅伝大会"},null,null,null,null,null,null,null,null,false,null,null,"←","保護者にPDFデータを送り、各自でプリントアウトしてもらえるなら、こちらをクリックしてください。完成後、各生徒保護者に送付してください。"]
["エントリー選手の鉄剤注射に関する申告・身体計測実施についての同意書"]
[null,null,null,null,null,null,null,null,null,"PDFはこのファイルが存在する同じフォルダに保存されます。"]
[{"$f":"\" 「令和\"&DBCS(事務局用!B3-2018)&\"年度全国中学校体育大会 第\"&事務局用!B3-1992&\"回全国中学校駅伝大会出場校における鉄剤注射に関する申告・身体計測に関する調査実施要項」 に基づき、エントリー選手の鉄剤注射に関する申告書の提出、および身体計測に関して、日本陸連が主導して実施し、結果を管理すること、結果について、不適切な鉄剤注射の禁止違反の有無の判断、鉄剤注射についての現状把握、出場校に対する指導、不適切な鉄剤注射の根絶に向けた方策の検討に利用すること、個人および学校名が特定されない形で公表することについて同意をいたします。\"","v":" 「令和３年度全国中学校体育大会 第29回全国中学校駅伝大会出場校における鉄剤注射に関する申告・身体計測に関する調査実施要項」 に基づき、エントリー選手の鉄剤注射に関する申告書の提出、および身体計測に関して、日本陸連が主導して実施し、結果を管理すること、結果について、不適切な鉄剤注射の禁止違反の有無の判断、鉄剤注射についての現状把握、出場校に対する指導、不適切な鉄剤注射の根絶に向けた方策の検討に利用すること、個人および学校名が特定されない形で公表することについて同意をいたします。"}]
["エントリー選手",null,null,null,null,null,null,null,null,null,"この同意書をすべて回収しないと"]
[null,"学校名",{"$f":"ﾃﾞｰﾀ入力!B6","v":"近江市立志賀中学校"},null,null,null,null,null,null,null,"身体計測もできない流れなので"]
[null,null,null,null,null,null,null,null,null,null,"早く該当選手へ配布しましょう"]
[null,"自宅住所","〒　　　　　　"]
[]
[null,null,null,"                         　　　　                          "]
[null,"名前（署名）"]
[]
[null,"署名日",{"$f":"事務局用!B3&\"年　　　　　月　　　　　日\"","v":"2021年　　　　　月　　　　　日"}]
[]
[]
["エントリー選手の保護者（親権者）"]
[null,"自宅住所","〒　　　　　　"]
[]
[null,null,null,"                         　　　　         　                "]
[null,"名前（署名）"]
[]
[null,"署名日",{"$f":"事務局用!B3&\"年　　　　　月　　　　　日\"","v":"2021年　　　　　月　　　　　日"}]
["本書は大会エントリー時に必要な書類です。記入後、早急に学校の陸上競技部顧問へご提出いただきますようお願いいたします。"]
["なお、外国籍の選手の場合には、受け入れ責任者が保護者として署名してください。"]
[null,null,null,null,null,null,null,{"$f":"IF(J4=TRUE,\"\",ﾃﾞｰﾀ入力!B2&\"-\"&J28)","v":"男子-8"},{"$f":"IF(J4=TRUE,\"\",VLOOKUP(J28,ﾃﾞｰﾀ入力!$A$26:$O$34,4,0))","v":"佐藤"},8]

{"sheet":"鉄剤注射報告書","index":9,"n_rows":40,"n_cols":13,"rows_kept":40,"cut":false,"hidden":true,"merged":[[16,2,16,3],[0,1,0,7],[3,1,3,7],[4,0,4,8],[4,11,4,12],[7,0,7,8],[10,2,10,3],[11,2,11,3],[12,2,12,3],[13,2,13,3],[14,2,14,3],[15,2,15,3],[29,2,29,3],[29,4,29,6],[30,2,30,3],[30,4,30,6],[17,2,17,3],[18,2,18,3],[19,2,19,3],[21,1,21,8],[24,1,24,8],[28,2,28,3],[28,4,28,6]]}
[null,"鉄剤注射に関する申告書・身体計測報告書"]
[null,"公益財団法人日本中学校体育連盟陸上競技部　御中"]
[null,"公益財団法人日本陸上競技連盟　御中"]
[null,"　このたび、全国中学校駅伝大会　[ 　　 ] の部に参加するにあたり以下の内容を申告･報告します。"]
[{"$f":"\"① 上記大会にエントリーした選手(補欠を含む)のうち、令和\"&DBCS(事務局用!B3-2018)&\"年１０月１日から申告書･報告書作成日までに鉄剤注射を受けた選手の有無･人数\n※１・２いずれか該当するものに◯をつけ、２に該当する場合、人数も記載してください。\"","v":"① 上記大会にエントリーした選手(補欠を含む)のうち、令和３年１０月１日から申告書･報告書作成日までに鉄剤注射を受けた選手の有無･人数\n※１・２いずれか該当するものに◯をつけ、２に該当する場合、人数も記載してください。"},null,null,null,null,null,null,null,null,null,null,"「あり」の場合"]
[null,"　　１．なし",null,null,null,null,null,null,null,null,null,"エントリー数","該当者数"]
[null,{"$f":"IF(K7=1,\"　　２．あり（エントリー　　　\"&DBCS(L7)&\" 名中 　　\"&DBCS(M7)&\" 名）\",\"　　２．あり（エントリー　　 　 名中 　　 　 名）\")","v":"　　２．あり（エントリー　　 　 名中 　　 　 名）"},null,null,null,null,null,null,null,null,2,{"$f":"COUNTA(ﾃﾞｰﾀ入力!F27:F35)","v":8},0]
["② 上記①で「２．あり」の場合、別紙 鉄剤注射実施報告書を記入し提出すること。"]
[]
["③ 身体計測"]
[null,"NO","氏名",null,"生年月日","身長（cm）","体重（kg）","計測日"]
[null,1,{"$f":"ﾃﾞｰﾀ入力!D27&\"　\"&ﾃﾞｰﾀ入力!E27","v":"鳥羽　一郎"},null,{"$f":"IF(ﾃﾞｰﾀ入力!D27=\"\",\"\",\"20\"&ﾃﾞｰﾀ入力!M27&\".\"&ﾃﾞｰﾀ入力!N27&\".\"&ﾃﾞｰﾀ入力!O27)","v":"2006.7.6"}]
[null,2,{"$f":"ﾃﾞｰﾀ入力!D28&\"　\"&ﾃﾞｰﾀ入力!E28","v":"佐々木　小次郎"},null,{"$f":"IF(ﾃﾞｰﾀ入力!D28=\"\",\"\",\"20\"&ﾃﾞｰﾀ入力!M28&\".\"&ﾃﾞｰﾀ入力!N28&\".\"&ﾃﾞｰﾀ入力!O28)","v":"2007.5.30"}]
[null,3,{"$f":"ﾃﾞｰﾀ入力!D29&\"　\"&ﾃﾞｰﾀ入力!E29","v":"宮本　武蔵"},null,{"$f":"IF(ﾃﾞｰﾀ入力!D29=\"\",\"\",\"20\"&ﾃﾞｰﾀ入力!M29&\".\"&ﾃﾞｰﾀ入力!N29&\".\"&ﾃﾞｰﾀ入力!O29)","v":"2007.3.12"}]
[null,4,{"$f":"ﾃﾞｰﾀ入力!D30&\"　\"&ﾃﾞｰﾀ入力!E30","v":"辰巳　拓朗"},null,{"$f":"IF(ﾃﾞｰﾀ入力!D30=\"\",\"\",\"20\"&ﾃﾞｰﾀ入力!M30&\".\"&ﾃﾞｰﾀ入力!N30&\".\"&ﾃﾞｰﾀ入力!O30)","v":"2008.1.6"}]
[null,5,{"$f":"ﾃﾞｰﾀ入力!D31&\"　\"&ﾃﾞｰﾀ入力!E31","v":"山元　一"},null,{"$f":"IF(ﾃﾞｰﾀ入力!D31=\"\",\"\",\"20\"&ﾃﾞｰﾀ入力!M31&\".\"&ﾃﾞｰﾀ入力!N31&\".\"&ﾃﾞｰﾀ入力!O31)","v":"2006.9.12"}]
[null,6,{"$f":"ﾃﾞｰﾀ入力!D32&\"　\"&ﾃﾞｰﾀ入力!E32","v":"嵐　一茶"},null,{"$f":"IF(ﾃﾞｰﾀ入力!D32=\"\",\"\",\"20\"&ﾃﾞｰﾀ入力!M32&\".\"&ﾃﾞｰﾀ入力!N32&\".\"&ﾃﾞｰﾀ入力!O32)","v":"2008.10.10"}]
[null,7,{"$f":"ﾃﾞｰﾀ入力!D33&\"　\"&ﾃﾞｰﾀ入力!E33","v":"大前　義男"},null,{"$f":"IF(ﾃﾞｰﾀ入力!D33=\"\",\"\",\"20\"&ﾃﾞｰﾀ入力!M33&\".\"&ﾃﾞｰﾀ入力!N33&\".\"&ﾃﾞｰﾀ入力!O33)","v":"2006.9.19"},null,null,null,null,null,"①の内容および身長、体重は実行委員会事務局が情報を集めるものではありません"]
[null,8,{"$f":"ﾃﾞｰﾀ入力!D34&\"　\"&ﾃﾞｰﾀ入力!E34","v":"佐藤　滉大"},null,{"$f":"IF(ﾃﾞｰﾀ入力!D34=\"\",\"\",\"20\"&ﾃﾞｰﾀ入力!M34&\".\"&ﾃﾞｰﾀ入力!N34&\".\"&ﾃﾞｰﾀ入力!O34)","v":"2009.2.4"},null,null,null,null,null,"したがって、下のボタンをクリックして報告書を印刷すると自動的にデータの方は消去されます"]
[null,9,{"$f":"ﾃﾞｰﾀ入力!D35&\"　\"&ﾃﾞｰﾀ入力!E35","v":"　"},null,{"$f":"IF(ﾃﾞｰﾀ入力!D35=\"\",\"\",\"20\"&ﾃﾞｰﾀ入力!M35&\".\"&ﾃﾞｰﾀ入力!N35&\".\"&ﾃﾞｰﾀ入力!O35)","v":""},null,null,null,null,null,"なお、データ提出では不要のため、ファイル提出時の「提出用保存」ボタンでシートが自動削除されます"]
[]
[null," ※計測については１０月以降に保健室で実施してください。計測時はジャージを着用せず、出来る限り軽い着衣で計測してください。"]
[null," ※身長及び体重を小数点以下１桁まで、ご記入ください。"]
[]
[null,"　大会出走までの間に、上記と異なる事象が生じた場合は、直ちに追加で申告します。\n　また、申告内容については、プライバシーを配慮のうえ集計結果等が公表される場合や関係者へのヒヤリングが行われる場合があることを了解しています。",null,null,null,null,null,null,null,null,"プリントアウト後、下の署名欄、日付欄は必ず手書きにて提出ください。"]
[null,null,null,null,null,null,null,null,null,null,"身長、体重、計測日も手書きで問題ありません"]
[null,{"$f":"\"令和\"&DBCS(事務局用!B3-2018)&\"年　　月　　日\"","v":"令和３年　　月　　日"}]
[]
[null,null,"学校名",null,{"$f":"ﾃﾞｰﾀ入力!B4&\"　・　\"&ﾃﾞｰﾀ入力!B6","v":"開催地　・　近江市立志賀中学校"}]
[null,null,"校長",null,"署名"]
[null,null,"陸上競技部顧問",null,"署名"]
[]
[]
[]
[]
[]
[]
[]
[null,null,{"$f":"IF(K7=2,\"○\",\"\")","v":"○"}]
[null,{"$f":"ﾃﾞｰﾀ入力!B2","v":"男子"},{"$f":"IF(K7=1,\"○\",\"\")","v":""}]

{"sheet":"鉄剤注射実施報告書","index":10,"n_rows":45,"n_cols":9,"rows_kept":45,"cut":false,"hidden":true,"merged":[[0,0,0,4],[23,1,23,4],[27,0,27,5],[26,0,26,5],[28,0,28,5],[6,0,6,1],[8,0,8,1],[10,0,10,1],[15,1,15,4],[18,1,18,4]]}
["鉄剤注射実施報告書"]
[]
[]
["  下記のとおり、鉄剤注射の実施を報告いたします。",null,null,null,null,null,null,"該当しない学校は提出前に削除してください(マクロファイルは「提出用保存」をクリックしたときに自動削除されます)"]
[]
[]
["実施年月日　：",null,null,null,null,null,null,null,"シート削除　…　「Alt」→「E」→「L」"]
[]
["実施医療機関："]
[null,null,null,null,null,null,null,"該当校はこのシートで記入すべき箇所には"]
["担当医師名　：",null,null,null,null,null,null,"入力できます"]
[null,null,null,null,null,null,null,"ただし、記入月日と署名の欄はプリントアウト後"]
[null,null,null,null,null,null,null,"直接記入してください"]
["実施理由(１・２・３いずれか該当するものに○をつけ、３に該当する場合、具体的に記述して下さい)"]
[null,null,null,null,null,null,null,null,"プリントアウト…「Ctrl」＋「P」　→　「Enter」"]
["１．",{"$f":"\"鉄剤注射を受けた選手全員は、血液ヘモグロビン、血清フェリチン検査を令和\"&DBCS(A45-2018)&\"年９月１日\n以降に受け、鉄欠乏性貧血と診断された上で、経口鉄剤の投与を受けたが、副作用を生じた\nため、医師の診断にもとづき鉄剤注射を受けた。\"","v":"鉄剤注射を受けた選手全員は、血液ヘモグロビン、血清フェリチン検査を令和３年９月１日\n以降に受け、鉄欠乏性貧血と診断された上で、経口鉄剤の投与を受けたが、副作用を生じた\nため、医師の診断にもとづき鉄剤注射を受けた。"}]
[]
[]
["２．",{"$f":"\"鉄剤注射を受けた選手全員は、血液ヘモグロビン、血清フェリチン検査を令和\"&DBCS(A45-2018)&\"年９月１日\n以降に受け、鉄欠乏性貧血と診断された上で、症状が重度かつ緊急であるとの医師の診断に\nもとづき、鉄剤注射を受けた。\"","v":"鉄剤注射を受けた選手全員は、血液ヘモグロビン、血清フェリチン検査を令和３年９月１日\n以降に受け、鉄欠乏性貧血と診断された上で、症状が重度かつ緊急であるとの医師の診断に\nもとづき、鉄剤注射を受けた。"}]
[]
[]
["３．","上記以外の場合、詳細にかつ具体的に記述して下さい。"]
[" 　　※スペースが足りない場合は別紙に記述し、併せて提出して下さい。"]
[]
[]
[]
[" 大会出走までの間に、上記と異なる事象が生じた場合は、直ちに追加で申告します。"]
[" また、申告内容については、プライバシーを配慮のうえ集計結果等が公表される場合や関係者への"]
[" ヒヤリングが行われる場合があることを了解しています。"]
[]
[]
[{"$f":"\"令和\"&DBCS(A45-2018)&\"年　　月　　日\"","v":"令和３年　　月　　日"}]
[]
[null,"学　校　名",null,{"$f":"ﾃﾞｰﾀ入力!B6","v":"近江市立志賀中学校"}]
[]
[null,"校長",null,"署名"]
[]
[null,"陸上競技部顧問",null,"署名"]
[]
[]
[]
[]
[]
[]
[{"$f":"事務局用!B3","v":2021}]